BEGIN:VCALENDAR
VERSION:2.0
PRODID:-//Kulturni horizont - ECPv6.15.20//NONSGML v1.0//EN
CALSCALE:GREGORIAN
METHOD:PUBLISH
X-WR-CALNAME:Kulturni horizont
X-ORIGINAL-URL:https://kulturnihorizont.com
X-WR-CALDESC:Događaji za Kulturni horizont
REFRESH-INTERVAL;VALUE=DURATION:PT1H
X-Robots-Tag:noindex
X-PUBLISHED-TTL:PT1H
BEGIN:VTIMEZONE
TZID:Europe/Zagreb
BEGIN:DAYLIGHT
TZOFFSETFROM:+0100
TZOFFSETTO:+0200
TZNAME:CEST
DTSTART:20240331T010000
END:DAYLIGHT
BEGIN:STANDARD
TZOFFSETFROM:+0200
TZOFFSETTO:+0100
TZNAME:CET
DTSTART:20241027T010000
END:STANDARD
BEGIN:DAYLIGHT
TZOFFSETFROM:+0100
TZOFFSETTO:+0200
TZNAME:CEST
DTSTART:20250330T010000
END:DAYLIGHT
BEGIN:STANDARD
TZOFFSETFROM:+0200
TZOFFSETTO:+0100
TZNAME:CET
DTSTART:20251026T010000
END:STANDARD
BEGIN:DAYLIGHT
TZOFFSETFROM:+0100
TZOFFSETTO:+0200
TZNAME:CEST
DTSTART:20260329T010000
END:DAYLIGHT
BEGIN:STANDARD
TZOFFSETFROM:+0200
TZOFFSETTO:+0100
TZNAME:CET
DTSTART:20261025T010000
END:STANDARD
END:VTIMEZONE
BEGIN:VEVENT
DTSTART;TZID=Europe/Zagreb:20250912T190000
DTEND;TZID=Europe/Zagreb:20250912T210000
DTSTAMP:20260420T203856
CREATED:20250912T074940Z
LAST-MODIFIED:20250912T074940Z
UID:10000160-1757703600-1757710800@kulturnihorizont.com
SUMMARY:Četvrti Dani Petra Miloša i dodjela nagrada za kratku priču
DESCRIPTION:Društvo hrvatskih književnika Herceg Bosne i Kulturno-informativni centar Tomislavgrad organiziraju u Tomislavgradu četvrte Dane Petra Miloša.Na ovogodišnji natječaj za nagradu Petar Miloš za kratku priču\, koji je provelo Društvo hrvatskih književnika Herceg Bosne\, pristiglo je devedeset i šest priča. Prosudbeno povjerenstvo DHK HB za nagradu Petar Miloš u uži izbor uvrstilo je sljedeće kratke priče (abecednim redom prema naslovu priče):„22 koraka“\, autorice Ane Cvitanović„Anđeo čuvar“\, autora Miljenka Stojića„Bit ću dobra kao da me nema“\, autora Željka Funde„Flanerov put“\, autora Gorana Hadžiomeragića„Kalandorsko suđenje“\, autorice Ive Bagarić„Latičin usud“\, autorice Marine Alerić-Bebić„Na kraju ostaje ljubav“\, autorice Vesne Haluge„Samuraj“\, autorice Snježane Novotny„Sebe tebi\, sebe sebi“\, autorice Ane Paule Jelić„Svadbeni dar“\, autora Tomislava Šovagovića„Žrtvin oprost“\, autora Željka Gorete.U petak\, 12. rujna 2025.\, u 19 sati\, u kinodvorani Kulturno-informativnoga centra u Tomislavgradu\, bit će upriličena dodjela nagrada autorima tri najbolje priče od pristiglih na ovogodišnji natječaj. \n\n\n	Srodno
URL:https://kulturnihorizont.com/event/cetvrti-dani-petra-milosa-i-dodjela-nagrada-za-kratku-pricu/
CATEGORIES:Kalendar
ATTACH;FMTTYPE=image/jpeg:https://kulturnihorizont.com/wp-content/uploads/2025/09/545753290_24912052568381030_2876144548079581702_n.jpg
ORGANIZER;CN="Dru%C5%A1tvo hrvatskih knji%C5%BEevnika Herceg Bosne":MAILTO:dhkhbmo@gmail.com
END:VEVENT
END:VCALENDAR