BEGIN:VCALENDAR
VERSION:2.0
PRODID:-//Kulturni horizont - ECPv6.15.20//NONSGML v1.0//EN
CALSCALE:GREGORIAN
METHOD:PUBLISH
X-WR-CALNAME:Kulturni horizont
X-ORIGINAL-URL:https://kulturnihorizont.com
X-WR-CALDESC:Događaji za Kulturni horizont
REFRESH-INTERVAL;VALUE=DURATION:PT1H
X-Robots-Tag:noindex
X-PUBLISHED-TTL:PT1H
BEGIN:VTIMEZONE
TZID:Europe/Zagreb
BEGIN:DAYLIGHT
TZOFFSETFROM:+0100
TZOFFSETTO:+0200
TZNAME:CEST
DTSTART:20240331T010000
END:DAYLIGHT
BEGIN:STANDARD
TZOFFSETFROM:+0200
TZOFFSETTO:+0100
TZNAME:CET
DTSTART:20241027T010000
END:STANDARD
BEGIN:DAYLIGHT
TZOFFSETFROM:+0100
TZOFFSETTO:+0200
TZNAME:CEST
DTSTART:20250330T010000
END:DAYLIGHT
BEGIN:STANDARD
TZOFFSETFROM:+0200
TZOFFSETTO:+0100
TZNAME:CET
DTSTART:20251026T010000
END:STANDARD
BEGIN:DAYLIGHT
TZOFFSETFROM:+0100
TZOFFSETTO:+0200
TZNAME:CEST
DTSTART:20260329T010000
END:DAYLIGHT
BEGIN:STANDARD
TZOFFSETFROM:+0200
TZOFFSETTO:+0100
TZNAME:CET
DTSTART:20261025T010000
END:STANDARD
BEGIN:DAYLIGHT
TZOFFSETFROM:+0100
TZOFFSETTO:+0200
TZNAME:CEST
DTSTART:20270328T010000
END:DAYLIGHT
BEGIN:STANDARD
TZOFFSETFROM:+0200
TZOFFSETTO:+0100
TZNAME:CET
DTSTART:20271031T010000
END:STANDARD
END:VTIMEZONE
BEGIN:VEVENT
DTSTART;TZID=Europe/Zagreb:20260417T193000
DTEND;TZID=Europe/Zagreb:20260417T210000
DTSTAMP:20260420T204416
CREATED:20260417T104200Z
LAST-MODIFIED:20260417T104200Z
UID:10000212-1776454200-1776459600@kulturnihorizont.com
SUMMARY:Super Mario galaktički film
DESCRIPTION:Srodno
URL:https://kulturnihorizont.com/event/super-mario-galakticki-film/
LOCATION:Narodno sveučilište Livno\, Livno\, Bosnia and Herzegovina
CATEGORIES:Kalendar
ATTACH;FMTTYPE=image/jpeg:https://kulturnihorizont.com/wp-content/uploads/2026/04/668555257_1271281275138519_2355449253856497199_n.jpg
END:VEVENT
BEGIN:VEVENT
DTSTART;TZID=Europe/Zagreb:20260410T200000
DTEND;TZID=Europe/Zagreb:20260410T213000
DTSTAMP:20260420T204416
CREATED:20260409T095504Z
LAST-MODIFIED:20260409T095504Z
UID:10000211-1775851200-1775856600@kulturnihorizont.com
SUMMARY:Predstava "Selo moje ljepše od Pariza" u Livnu
DESCRIPTION:Srodno
URL:https://kulturnihorizont.com/event/predstava-selo-moje-ljepse-od-pariza-u-livnu/
LOCATION:Narodno sveučilište Livno\, Livno\, Bosnia and Herzegovina
CATEGORIES:Kalendar
ATTACH;FMTTYPE=image/jpeg:https://kulturnihorizont.com/wp-content/uploads/2026/04/669155613_1269063268693653_1195078074546776278_n.jpg
END:VEVENT
BEGIN:VEVENT
DTSTART;TZID=Europe/Zagreb:20260325T190000
DTEND;TZID=Europe/Zagreb:20260325T203000
DTSTAMP:20260420T204416
CREATED:20260320T201303Z
LAST-MODIFIED:20260320T201303Z
UID:10000207-1774465200-1774470600@kulturnihorizont.com
SUMMARY:Mali Teatar dolazi u Livno s veselom predstavom „Koko u školi za klaune“
DESCRIPTION:Srodno
URL:https://kulturnihorizont.com/event/mali-teatar-dolazi-u-livno-s-veselom-predstavom-koko-u-skoli-za-klaune/
LOCATION:Narodno sveučilište Livno\, Livno\, Bosnia and Herzegovina
CATEGORIES:Kalendar
ATTACH;FMTTYPE=image/jpeg:https://kulturnihorizont.com/wp-content/uploads/2026/03/12457700-8f37-4fed-bf74-d341556d59b7.jpg
END:VEVENT
BEGIN:VEVENT
DTSTART;TZID=Europe/Zagreb:20260320T193000
DTEND;TZID=Europe/Zagreb:20260320T210000
DTSTAMP:20260420T204416
CREATED:20260315T173143Z
LAST-MODIFIED:20260315T173601Z
UID:10000197-1774035000-1774040400@kulturnihorizont.com
SUMMARY:Animirani film "David" u livanjskom kinu
DESCRIPTION:Srodno
URL:https://kulturnihorizont.com/event/animirani-film-david-u-livanjskom-kinu/
LOCATION:Narodno sveučilište Livno\, Livno\, Bosnia and Herzegovina
CATEGORIES:Kalendar
ATTACH;FMTTYPE=image/jpeg:https://kulturnihorizont.com/wp-content/uploads/2026/03/651190573_122219766560323309_4031141159238034408_n.jpg
END:VEVENT
BEGIN:VEVENT
DTSTART;TZID=Europe/Zagreb:20260313T193000
DTEND;TZID=Europe/Zagreb:20260313T210000
DTSTAMP:20260420T204416
CREATED:20260308T074231Z
LAST-MODIFIED:20260308T074231Z
UID:10000195-1773430200-1773435600@kulturnihorizont.com
SUMMARY:„Mag iz Kremlja“ u livanjskom kinu
DESCRIPTION:Srodno
URL:https://kulturnihorizont.com/event/mag-iz-kremlja-u-livanjskom-kinu/
LOCATION:Narodno sveučilište Livno\, Livno\, Bosnia and Herzegovina
CATEGORIES:Kalendar
ATTACH;FMTTYPE=image/jpeg:https://kulturnihorizont.com/wp-content/uploads/2026/03/648840556_122218881974323309_726154488933508266_n.jpg
END:VEVENT
BEGIN:VEVENT
DTSTART;TZID=Europe/Zagreb:20260310T080000
DTEND;TZID=Europe/Zagreb:20260310T170000
DTSTAMP:20260420T204416
CREATED:20260310T101511Z
LAST-MODIFIED:20260310T101511Z
UID:10000196-1773129600-1773162000@kulturnihorizont.com
SUMMARY:Predstava “LIKE ZA ISTINU”  u Livnu
DESCRIPTION:Srodno
URL:https://kulturnihorizont.com/event/predstava-like-za-istinu-u-livnu/
LOCATION:Narodno sveučilište Livno\, Livno\, Bosnia and Herzegovina
CATEGORIES:Kalendar
ATTACH;FMTTYPE=image/jpeg:https://kulturnihorizont.com/wp-content/uploads/2026/03/Like-za-istinu-1.jpeg
ORGANIZER;CN="Gimnazija Livno":MAILTO:gimnazijalivno2014@gmail.com
END:VEVENT
BEGIN:VEVENT
DTSTART;TZID=Europe/Zagreb:20260306T193000
DTEND;TZID=Europe/Zagreb:20260306T213000
DTSTAMP:20260420T204416
CREATED:20260303T074107Z
LAST-MODIFIED:20260303T074107Z
UID:10000194-1772825400-1772832600@kulturnihorizont.com
SUMMARY:Animirani film "Skakutavci" u livanjskom kinu
DESCRIPTION:Srodno
URL:https://kulturnihorizont.com/event/animirani-film-skakutavci-u-livanjskom-kinu/
LOCATION:Narodno sveučilište Livno\, Livno\, Bosnia and Herzegovina
CATEGORIES:Kalendar
ATTACH;FMTTYPE=image/jpeg:https://kulturnihorizont.com/wp-content/uploads/2026/03/1080x1350_HOPPERS_HR.jpg
END:VEVENT
BEGIN:VEVENT
DTSTART;TZID=Europe/Zagreb:20260219T190000
DTEND;TZID=Europe/Zagreb:20260219T203000
DTSTAMP:20260420T204416
CREATED:20260216T095049Z
LAST-MODIFIED:20260216T095049Z
UID:10000190-1771527600-1771533000@kulturnihorizont.com
SUMMARY:Animirani hit “GOAT” u četvrtak u kinodvorani Narodnog sveučilišta Livno
DESCRIPTION:Srodno
URL:https://kulturnihorizont.com/event/animirani-hit-goat-u-cetvrtak-u-kinodvorani-narodnog-sveucilista-livno/
LOCATION:Narodno sveučilište Livno\, Livno\, Bosnia and Herzegovina
CATEGORIES:Kalendar
ATTACH;FMTTYPE=image/jpeg:https://kulturnihorizont.com/wp-content/uploads/2026/02/631968683_1230006345932679_8764140423319630755_n.jpg
END:VEVENT
BEGIN:VEVENT
DTSTART;TZID=Europe/Zagreb:20260213T193000
DTEND;TZID=Europe/Zagreb:20260213T210000
DTSTAMP:20260420T204416
CREATED:20260210T125457Z
LAST-MODIFIED:20260210T125457Z
UID:10000186-1771011000-1771016400@kulturnihorizont.com
SUMMARY:Film "Poziv u pomoć" u livanjskom kinu
DESCRIPTION:Srodno
URL:https://kulturnihorizont.com/event/film-poziv-u-pomoc-u-livanjskom-kinu/
LOCATION:Narodno sveučilište Livno\, Livno\, Bosnia and Herzegovina
CATEGORIES:Kalendar
ATTACH;FMTTYPE=image/jpeg:https://kulturnihorizont.com/wp-content/uploads/2026/02/627483425_1221778006755513_4694534068321556939_n.jpg
END:VEVENT
BEGIN:VEVENT
DTSTART;TZID=Europe/Zagreb:20260206T193000
DTEND;TZID=Europe/Zagreb:20260206T210000
DTSTAMP:20260420T204416
CREATED:20260202T095851Z
LAST-MODIFIED:20260202T095851Z
UID:10000182-1770406200-1770411600@kulturnihorizont.com
SUMMARY:Gizmo dolazi u Livno
DESCRIPTION:Srodno
URL:https://kulturnihorizont.com/event/gizmo-dolazi-u-livno/
LOCATION:Narodno sveučilište Livno\, Livno\, Bosnia and Herzegovina
CATEGORIES:Kalendar
ATTACH;FMTTYPE=image/jpeg:https://kulturnihorizont.com/wp-content/uploads/2026/02/622376937_1216274280639219_4466576711233617484_n.jpg
END:VEVENT
BEGIN:VEVENT
DTSTART;TZID=Europe/Zagreb:20260131T200000
DTEND;TZID=Europe/Zagreb:20260131T210000
DTSTAMP:20260420T204416
CREATED:20260121T192243Z
LAST-MODIFIED:20260121T192243Z
UID:10000175-1769889600-1769893200@kulturnihorizont.com
SUMMARY:Alan Hržica "Večer slavljenja" u Livnu
DESCRIPTION:Srodno
URL:https://kulturnihorizont.com/event/alan-hrzica-vecer-slavljenja-u-livnu/
LOCATION:Narodno sveučilište Livno\, Livno\, Bosnia and Herzegovina
CATEGORIES:Kalendar,Vjersko
ATTACH;FMTTYPE=image/jpeg:https://kulturnihorizont.com/wp-content/uploads/2026/01/619633021_1344953350767499_2951864207296095626_n.jpg
END:VEVENT
BEGIN:VEVENT
DTSTART;TZID=Europe/Zagreb:20260130T193000
DTEND;TZID=Europe/Zagreb:20260130T210000
DTSTAMP:20260420T204416
CREATED:20260128T070639Z
LAST-MODIFIED:20260128T070639Z
UID:10000177-1769801400-1769806800@kulturnihorizont.com
SUMMARY:Bodljikava avantura
DESCRIPTION:Srodno
URL:https://kulturnihorizont.com/event/bodljikava-avantura/
LOCATION:Narodno sveučilište Livno\, Livno\, Bosnia and Herzegovina
CATEGORIES:Kalendar
ATTACH;FMTTYPE=image/jpeg:https://kulturnihorizont.com/wp-content/uploads/2026/01/622761358_1213378277595486_3430299593137514538_n.jpg
END:VEVENT
BEGIN:VEVENT
DTSTART;TZID=Europe/Zagreb:20260128T193000
DTEND;TZID=Europe/Zagreb:20260128T210000
DTSTAMP:20260420T204416
CREATED:20260121T191342Z
LAST-MODIFIED:20260121T191342Z
UID:10000174-1769628600-1769634000@kulturnihorizont.com
SUMMARY:Premijera filma "Svadba" u Livnu
DESCRIPTION:Srodno
URL:https://kulturnihorizont.com/event/premijera-filma-svadba-u-livnu/
LOCATION:Narodno sveučilište Livno\, Livno\, Bosnia and Herzegovina
CATEGORIES:Kalendar
ATTACH;FMTTYPE=image/jpeg:https://kulturnihorizont.com/wp-content/uploads/2026/01/619315845_1208682041398443_7363909553568163848_n.jpg
END:VEVENT
BEGIN:VEVENT
DTSTART;TZID=Europe/Zagreb:20251017T193000
DTEND;TZID=Europe/Zagreb:20251017T210000
DTSTAMP:20260420T204416
CREATED:20251013T103558Z
LAST-MODIFIED:20251013T103558Z
UID:10000173-1760729400-1760734800@kulturnihorizont.com
SUMMARY:Šape u akciji
DESCRIPTION:Srodno
URL:https://kulturnihorizont.com/event/sape-u-akciji/
LOCATION:Narodno sveučilište Livno\, Livno\, Bosnia and Herzegovina
CATEGORIES:Kalendar
ATTACH;FMTTYPE=image/jpeg:https://kulturnihorizont.com/wp-content/uploads/2025/10/Sape-u-akciji.jpg
END:VEVENT
BEGIN:VEVENT
DTSTART;TZID=Europe/Zagreb:20251010T193000
DTEND;TZID=Europe/Zagreb:20251010T210000
DTSTAMP:20260420T204416
CREATED:20251006T101433Z
LAST-MODIFIED:20251006T101433Z
UID:10000171-1760124600-1760130000@kulturnihorizont.com
SUMMARY:SMASHING MACHINE - život u ringu
DESCRIPTION:Srodno
URL:https://kulturnihorizont.com/event/smashing-machine-zivot-u-ringu/
LOCATION:Narodno sveučilište Livno\, Livno\, Bosnia and Herzegovina
CATEGORIES:Kalendar
ATTACH;FMTTYPE=image/jpeg:https://kulturnihorizont.com/wp-content/uploads/2025/10/557859595_122197955126323309_5397580095381280582_n.jpg
END:VEVENT
BEGIN:VEVENT
DTSTART;TZID=Europe/Zagreb:20251009T193000
DTEND;TZID=Europe/Zagreb:20251009T210000
DTSTAMP:20260420T204416
CREATED:20251003T093455Z
LAST-MODIFIED:20251003T093455Z
UID:10000170-1760038200-1760043600@kulturnihorizont.com
SUMMARY:Premijera filma TESTAMENT u livanjskom kinu
DESCRIPTION:Srodno
URL:https://kulturnihorizont.com/event/premijera-filma-testament-u-livanjskom-kinu/
LOCATION:Narodno sveučilište Livno\, Livno\, Bosnia and Herzegovina
CATEGORIES:Kalendar
ATTACH;FMTTYPE=image/jpeg:https://kulturnihorizont.com/wp-content/uploads/2025/10/559313486_122197821884323309_2281678673862076737_n.jpg
END:VEVENT
BEGIN:VEVENT
DTSTART;TZID=Europe/Zagreb:20250926T200000
DTEND;TZID=Europe/Zagreb:20250926T200000
DTSTAMP:20260420T204416
CREATED:20250923T092758Z
LAST-MODIFIED:20250923T092842Z
UID:10000166-1758916800-1758916800@kulturnihorizont.com
SUMMARY:Film 'Jedna bitka za drugom' u livanjskom kinu
DESCRIPTION:Srodno
URL:https://kulturnihorizont.com/event/film-jedna-bitka-za-drugom-u-livanjskom-kinu/
LOCATION:Narodno sveučilište Livno\, Livno\, Bosnia and Herzegovina
CATEGORIES:Kalendar
ATTACH;FMTTYPE=image/jpeg:https://kulturnihorizont.com/wp-content/uploads/2025/09/548214750_122196043604323309_1132790661600891553_n.jpg
END:VEVENT
BEGIN:VEVENT
DTSTART;TZID=Europe/Zagreb:20250925T193000
DTEND;TZID=Europe/Zagreb:20250925T210000
DTSTAMP:20260420T204416
CREATED:20250923T092453Z
LAST-MODIFIED:20250923T092453Z
UID:10000165-1758828600-1758834000@kulturnihorizont.com
SUMMARY:Premijera filma „Diva“ u Livnu
DESCRIPTION:Srodno
URL:https://kulturnihorizont.com/event/premijera-filma-diva-u-livnu/
LOCATION:Narodno sveučilište Livno\, Livno\, Bosnia and Herzegovina
CATEGORIES:Kalendar
ATTACH;FMTTYPE=image/jpeg:https://kulturnihorizont.com/wp-content/uploads/2025/09/549664486_1115052317428083_3810657592554213795_n.jpg
END:VEVENT
BEGIN:VEVENT
DTSTART;TZID=Europe/Zagreb:20250919T193000
DTEND;TZID=Europe/Zagreb:20250919T210000
DTSTAMP:20260420T204416
CREATED:20250915T083357Z
LAST-MODIFIED:20250915T083440Z
UID:10000161-1758310200-1758315600@kulturnihorizont.com
SUMMARY:"Taxi ljubav" u Narodnom sveučilištu Livno
DESCRIPTION:Glavni lik Joža\, kojeg utjelovljuje Ljubomir Kerekeš\, je veteran Domovinskog rata. On je “junak svakodnevnice” koji\, iako ranjen PTSP-jem\, ne pristaje na mirovanje. Umjesto toga\, bira volan\, noćne vožnje i razgovore sa stalnim mušterijama koje ga smatraju i više od prijatelja\, ali i nepoznatim putnicima.Kroz četiri povezane priče njegovih putnika\, film razotkriva duboko ljudske trenutke koje često zaboravimo primijetiti. Jožu tako susreću ljudi koji traže odgovore\, bijeg\, oprost ili samo tišinu. A on\, i sam krhak i ožiljkast\, postaje njihovo privremeno utočište.Na filmu su također i još neke numere Tonija Cetinskog koje potpisuju Guido Mineo\, Miroslav Rus i Alan Hržica. Glazba u filmu je prepuna hitova autora Marka Lasića Nereda I Ivana Dražića Gidre frontmena Connecta. \n\n\n	Srodno
URL:https://kulturnihorizont.com/event/taxi-ljubav-u-narodnom-sveucilistu-livno/
LOCATION:Narodno sveučilište Livno\, Livno\, Bosnia and Herzegovina
CATEGORIES:Kalendar
ATTACH;FMTTYPE=image/jpeg:https://kulturnihorizont.com/wp-content/uploads/2025/09/546860830_1107396311527017_3610221408653890095_n.jpg
END:VEVENT
BEGIN:VEVENT
DTSTART;TZID=Europe/Zagreb:20250912T193000
DTEND;TZID=Europe/Zagreb:20250912T210000
DTSTAMP:20260420T204416
CREATED:20250912T071007Z
LAST-MODIFIED:20250912T071007Z
UID:10000157-1757705400-1757710800@kulturnihorizont.com
SUMMARY:Animirani film „Loši momci 2" u livanjskom kinu
DESCRIPTION:Narodno sveučilište Livno poziva vas u svoju kinodvoranu na projekciju animiranog hita „Loši momci 2“\, nastavka uspješnog filma studija DreamWorks iz 2022. godine.Ovoga puta poznata ekipa Loših momaka pokušava živjeti pošteno i steći povjerenje društva. No\, sve se zakomplicira kada ih iznenada izazove nova banda – Loše djevojke – prisiljavajući ih na još jedan\, „posljednji posao“. Film je nastao prema popularnim knjigama Aarona Blabeya\, bestselerima New York Timesa\, i ponovno okuplja originalnu glumačku i autorsku ekipu. \n\n\n	Srodno
URL:https://kulturnihorizont.com/event/animirani-film-losi-momci-2-u-livanjskom-kinu/
LOCATION:Narodno sveučilište Livno\, Livno\, Bosnia and Herzegovina
CATEGORIES:Kalendar
ATTACH;FMTTYPE=image/jpeg:https://kulturnihorizont.com/wp-content/uploads/2025/09/545263437_122194166156323309_550835729126223330_n.jpg
END:VEVENT
BEGIN:VEVENT
DTSTART;TZID=Europe/Zagreb:20250725T203000
DTEND;TZID=Europe/Zagreb:20250725T213000
DTSTAMP:20260420T204416
CREATED:20250721T205315Z
LAST-MODIFIED:20250721T205315Z
UID:10000151-1753475400-1753479000@kulturnihorizont.com
SUMMARY:Komedija: Bosanac na odmoru
DESCRIPTION:Srodno
URL:https://kulturnihorizont.com/event/komedija-bosanac-na-odmoru/
LOCATION:Narodno sveučilište Livno\, Livno\, Bosnia and Herzegovina
CATEGORIES:Kalendar
ATTACH;FMTTYPE=image/jpeg:https://kulturnihorizont.com/wp-content/uploads/2025/07/517982297_1157344896426977_7088697812512827406_n.jpg
END:VEVENT
BEGIN:VEVENT
DTSTART;TZID=Europe/Zagreb:20250722T203000
DTEND;TZID=Europe/Zagreb:20250722T220000
DTSTAMP:20260420T204416
CREATED:20250721T205722Z
LAST-MODIFIED:20250721T205722Z
UID:10000152-1753216200-1753221600@kulturnihorizont.com
SUMMARY:Premijera filma Ujak
DESCRIPTION:Srodno
URL:https://kulturnihorizont.com/event/premijera-filma-ujak/
LOCATION:Narodno sveučilište Livno\, Livno\, Bosnia and Herzegovina
CATEGORIES:Kalendar
ATTACH;FMTTYPE=image/jpeg:https://kulturnihorizont.com/wp-content/uploads/2025/07/516039087_1045279631083982_3253138600047692998_n.jpg
END:VEVENT
BEGIN:VEVENT
DTSTART;TZID=Europe/Zagreb:20250429T190000
DTEND;TZID=Europe/Zagreb:20250429T200000
DTSTAMP:20260420T204416
CREATED:20250428T133641Z
LAST-MODIFIED:20250428T133658Z
UID:10000142-1745953200-1745956800@kulturnihorizont.com
SUMMARY:Ero s onoga svijeta
DESCRIPTION:Srodno
URL:https://kulturnihorizont.com/event/ero-s-onoga-svijeta/
LOCATION:Narodno sveučilište Livno\, Livno\, Bosnia and Herzegovina
CATEGORIES:Kalendar
ATTACH;FMTTYPE=image/jpeg:https://kulturnihorizont.com/wp-content/uploads/2025/04/492540144_1194085885846650_8413233386203233165_n.jpg
ORGANIZER;CN="Gimnazija Livno":MAILTO:gimnazijalivno2014@gmail.com
END:VEVENT
BEGIN:VEVENT
DTSTART;TZID=Europe/Zagreb:20250428T193000
DTEND;TZID=Europe/Zagreb:20250428T210000
DTSTAMP:20260420T204416
CREATED:20250428T133934Z
LAST-MODIFIED:20250428T133934Z
UID:10000143-1745868600-1745874000@kulturnihorizont.com
SUMMARY:Animirani film KRALJ NAD KRALJEVIMA
DESCRIPTION:Otac pripovijeda svom sinu najveću priču ikada ispričanu\, a ono što započinje kao priča pred spavanje\, postaje putovanje koje mijenja život. Kroz živopisnu maštu\, dječak hoda uz Isusa\, svjedočeći Njegovim čudima\, suočavajući se s Njegovim kušnjama i razumijevajući Njegovu konačnu žrtvu. Kralj kraljeva poziva nas da ponovno otkrijemo trajnu moć nade\, ljubavi i otkupljenja kroz oči djeteta. \n\n\n\n	Srodno
URL:https://kulturnihorizont.com/event/animirani-film-kralj-nad-kraljevima-2/
LOCATION:Narodno sveučilište Livno\, Livno\, Bosnia and Herzegovina
CATEGORIES:Kalendar
ATTACH;FMTTYPE=image/jpeg:https://kulturnihorizont.com/wp-content/uploads/2025/04/490816478_995216846078298_1635920141695941809_n.jpg
END:VEVENT
BEGIN:VEVENT
DTSTART;TZID=Europe/Zagreb:20250423T193000
DTEND;TZID=Europe/Zagreb:20250423T213000
DTSTAMP:20260420T204416
CREATED:20250417T090033Z
LAST-MODIFIED:20250417T090033Z
UID:10000136-1745436600-1745443800@kulturnihorizont.com
SUMMARY:Animirani film KRALJ NAD KRALJEVIMA
DESCRIPTION:Otac pripovijeda svom sinu najveću priču ikada ispričanu\, a ono što započinje kao priča pred spavanje\, postaje putovanje koje mijenja život. Kroz živopisnu maštu\, dječak hoda uz Isusa\, svjedočeći Njegovim čudima\, suočavajući se s Njegovim kušnjama i razumijevajući Njegovu konačnu žrtvu. Kralj kraljeva poziva nas da ponovno otkrijemo trajnu moć nade\, ljubavi i otkupljenja kroz oči djeteta. \n\n\n	Srodno
URL:https://kulturnihorizont.com/event/animirani-film-kralj-nad-kraljevima/
LOCATION:Narodno sveučilište Livno\, Livno\, Bosnia and Herzegovina
CATEGORIES:Kalendar
ATTACH;FMTTYPE=image/jpeg:https://kulturnihorizont.com/wp-content/uploads/2025/04/490816478_995216846078298_1635920141695941809_n.jpg
END:VEVENT
BEGIN:VEVENT
DTSTART;TZID=Europe/Zagreb:20250410T193000
DTEND;TZID=Europe/Zagreb:20250410T210000
DTSTAMP:20260420T204416
CREATED:20250331T193605Z
LAST-MODIFIED:20250331T193605Z
UID:10000132-1744313400-1744318800@kulturnihorizont.com
SUMMARY:Monodrama "Bio sam tamo"
DESCRIPTION:Monodrama „BIO SAM TAMO“ autorski projekt glumca Pere Eranovića utemeljen po motivima romana „Tunika“ Loyda C. Douglasa. \nRiječ je o potresnom svjedočanstvu rimskog centuriona Marcela Galija koji po dolasku u Galileju dobiva svoj prvi zadatak: organizirati smaknuće mjesnog revolucionara poznatog po brojnim čudesima\, a čiju tuniku osvaja na kocki.Marcel svoju priču gradi na promjenama koje u njemu izaziva Galilejčeva krvava tunika. On kao ateist odbija pridodavati ikakva nadnaravna svojstva komadu tkanine\, ali uranjajući sve dublje u priču Velikog petka\, shvaća da u sobi nije sam. \nKroz ispovijest o političkim spletkama\, izdaji te utjecaju krvožedne rulje Marcel Galije provodi publiku kroz mučne scene suđenja\, kažnjavanja i smrti kao možebitnog klimaksa. Publika tako postaje zbor prikaza koje s njim živopisno dijele traumu toga događaja\, ne sluteći u tome svoju pravu ulogu. \n\n\n	Srodno
URL:https://kulturnihorizont.com/event/monodrama-bio-sam-tamo/
LOCATION:Narodno sveučilište Livno\, Livno\, Bosnia and Herzegovina
CATEGORIES:Kalendar
ATTACH;FMTTYPE=image/jpeg:https://kulturnihorizont.com/wp-content/uploads/2025/03/487444917_982655434001106_1563830133585726034_n.jpg
END:VEVENT
BEGIN:VEVENT
DTSTART;TZID=Europe/Zagreb:20250317T193000
DTEND;TZID=Europe/Zagreb:20250317T203000
DTSTAMP:20260420T204416
CREATED:20250314T133602Z
LAST-MODIFIED:20250314T133602Z
UID:10000122-1742239800-1742243400@kulturnihorizont.com
SUMMARY:Predstava "Djelidba" u Livnu
DESCRIPTION:Kada je Skender Kulenović napisao komediju “Djelidba” neposredno nakon Drugog svjetskog rata i u samim začecima “bratstva i jedinstva”\, predstava je na premijeri izviždana i nakon toga zabranjena\, kažu povijesni izvori.\nIspostavilo se da je Skender Kulenović bio vizionar jer se njegova “Djelidba” događa i danas\, a redatelj Ales Kurt smatra da će se događati i ubuduće\, s obzirom da se radnja događa u BiH nakon “Petog svjetskog rata”\, a njeni protagonisti i dalje čekaju donatorsku pomoć\, dok unaprijed kuju tajne planove kako da iz toga izvuku najveću osobnu korist.\nU predstavi igraju Livanjka Gordana Boban\, Vanesa Glođo\, Sabit Sejdinović\, Amar Selimović\, Senad Alihodžić\, Davor Golubović\, Dina Mušanović\, Elma Juković\, Amar Čustović i Enes Kozličić.\n\n\nUlaznice možete nabaviti u tajništvu Narodnog sveučilišta Livno svakim radnim danom do 12:00h i na blagajni sat vremena prije samog početka predstave.\n\n\n\n	Srodno
URL:https://kulturnihorizont.com/event/predstava-djelidba-u-livnu/
LOCATION:Narodno sveučilište Livno\, Livno\, Bosnia and Herzegovina
CATEGORIES:Kalendar
ATTACH;FMTTYPE=image/jpeg:https://kulturnihorizont.com/wp-content/uploads/2025/03/481258976_964502899149693_6965457577785704990_n.jpg
END:VEVENT
BEGIN:VEVENT
DTSTART;TZID=Europe/Zagreb:20250202T160000
DTEND;TZID=Europe/Zagreb:20250202T170000
DTSTAMP:20260420T204416
CREATED:20250202T124449Z
LAST-MODIFIED:20250202T124611Z
UID:10000074-1738512000-1738515600@kulturnihorizont.com
SUMMARY:Humanitarni koncert "Hercegovina za Afriku"
DESCRIPTION:Misionari iz Hercegovine već desetljećima djeluju na području Afrike. \nSve češće imamo primjere gdje se svećenicima koji su u misijama pridružuju mladi iz Hercegovine koji svojim radom u Africi doprinose projektima koji imaju za cilj izgradnju lokalnih zajednica koje će imati osnovne uvjete za život. \nJedna od tih mladih je Marija Zorka Vasilj iz Međugorja koja je zadnjih skoro godinu dana provela u Africi u misiji koju vodi fra Ivica Perić. \nSve ono što je doživjela u Africi cijelo to vrijeme Mariju Zorku Vasilj je toliko dojmilo da je odlučila prilikom povratka u Hercegovinu pokrenuti humanitarni projekt koji ima za cilj uvelike doprinijeti misiji Mwakapandula i djeci na tome području. \nMarija Zorka Vasilj u suradnji sa svojim prijateljima planira održavanje četiri humanitarna koncerta od kojih će prihod biti usmjeren na izgradnju škole. \nKoncerti će se održati u Mostaru\, Međugorju\, Posušju i Livnu\, a projektu se već pridružio veliki broj ljudi koji je prepoznao plemenitost ove ideje. \nKoncert u Mostaru planiran je za 30. siječanj u Hrvatskom domu hercega Stjepana Kosače u 20 sati. \nU dvorani Ivana Pavla II. u Međugorju 31. siječnja u 20 sati će se održati drugi koncert\, dok će se dan poslije u Posušju u kinodvorani u 19 sati održati treći koncert. \nLivno će biti domaćin četvrtog koncerta 2. veljače u dvorani Narodnog Sveučilišta s početkom u 16 sati. \nTako će u Mostaru zajedno s nama nastupati Antonija Batinić\, Josip Drinovac i fra Marin Karačić\, u Međugoju Vinko Ćemeraš\, u Posušju fra Marin Karačić i Stjepan Lach\, a u Livnu Marko Omazić i Sotto Voce. \nNa koncertima u Mostaru i Livnu pridružit će nam se mjesni dječji zborovi: dječji zbor župe Svih svetih Livno\, dječji zbor Blizanac (župa sv. Tome\, Mostar) i dječji zbor Slavuji (Katedrala). Djece Hercegovine će na ovaj način podržati djecu Afrike i kao na svakom događaju u kojem sudjelujemo\, emocije i empatije sigurno neće nedostajati\, ističe Bevanda. \n(www.jabuka.tv) \n\n\n	Srodno
URL:https://kulturnihorizont.com/event/humanitarni-koncert-hercegovina-za-afriku/
LOCATION:Narodno sveučilište Livno\, Livno\, Bosnia and Herzegovina
CATEGORIES:Kalendar
ATTACH;FMTTYPE=image/jpeg:https://kulturnihorizont.com/wp-content/uploads/2025/02/b7606e0d-7b8a-4272-b92b-87d1d2a89e77.jpg
END:VEVENT
BEGIN:VEVENT
DTSTART;TZID=Europe/Zagreb:20250131T200000
DTEND;TZID=Europe/Zagreb:20250131T220000
DTSTAMP:20260420T204416
CREATED:20250129T091116Z
LAST-MODIFIED:20250129T091116Z
UID:10000071-1738353600-1738360800@kulturnihorizont.com
SUMMARY:William Tell
DESCRIPTION:William Tell je epska povijesna drama iz 2024. koju je napisao i režirao Nick Hamm\, a temelji se na istoimenoj drami Friedricha Schillera. U njemu glume Claes Bang\, Connor Swindells\, Golshifteh Farahani\, Jonah Hauer–King\, Ellie Bamber\, Rafe Spall\, Emily Beecham\, Jonathan Pryce i Ben Kingsley. \nFilm je imao svoju svjetsku premijeru na Međunarodnom filmskom festivalu u Torontu 2024. 5. rujna 2024.\, a u kinima se prikazuje od 10. siječnja 2025. \n\n\n	Srodno
URL:https://kulturnihorizont.com/event/william-tell/
LOCATION:Narodno sveučilište Livno\, Livno\, Bosnia and Herzegovina
CATEGORIES:Kalendar
ATTACH;FMTTYPE=image/jpeg:https://kulturnihorizont.com/wp-content/uploads/2025/01/475227191_939155511684432_3060788258535936552_n.jpg
END:VEVENT
BEGIN:VEVENT
DTSTART;TZID=Europe/Zagreb:20250124T193000
DTEND;TZID=Europe/Zagreb:20250124T210000
DTSTAMP:20260420T204416
CREATED:20250114T081916Z
LAST-MODIFIED:20250114T081934Z
UID:10000051-1737747000-1737752400@kulturnihorizont.com
SUMMARY:Paddington in Peru
DESCRIPTION:Paddington in Peru je animirana avanturistička komedija iz 2024. godine koju je režirao Dougal Wilson (u svom dugometražnom redateljskom debiju) i napisali Mark Burton \, Jon Foster i James Lamont prema priči Paula Kinga \, Simona Farnabyja i Burtona. To je treći dio serijala filmova o Paddingtonu koji se temelji napričama Michaela Bonda o Paddingtonu . U filmu glume Hugh Bonneville \, Emily Mortimer \, Julie Walters \, Jim Broadbent \, Carla Tous\, Olivia Colman \, Antonio Banderas i Ben Whishaw kao glas Paddingtona. \n  \n\n\n	Srodno
URL:https://kulturnihorizont.com/event/paddington-in-peru/
LOCATION:Narodno sveučilište Livno\, Livno\, Bosnia and Herzegovina
CATEGORIES:Kalendar
ATTACH;FMTTYPE=image/jpeg:https://kulturnihorizont.com/wp-content/uploads/2025/01/Paddington-in-Peru.jpg
END:VEVENT
END:VCALENDAR