BEGIN:VCALENDAR
VERSION:2.0
PRODID:-//Kulturni horizont - ECPv6.15.20//NONSGML v1.0//EN
CALSCALE:GREGORIAN
METHOD:PUBLISH
X-ORIGINAL-URL:https://kulturnihorizont.com
X-WR-CALDESC:Događaji za Kulturni horizont
REFRESH-INTERVAL;VALUE=DURATION:PT1H
X-Robots-Tag:noindex
X-PUBLISHED-TTL:PT1H
BEGIN:VTIMEZONE
TZID:Europe/Zagreb
BEGIN:DAYLIGHT
TZOFFSETFROM:+0100
TZOFFSETTO:+0200
TZNAME:CEST
DTSTART:20230326T010000
END:DAYLIGHT
BEGIN:STANDARD
TZOFFSETFROM:+0200
TZOFFSETTO:+0100
TZNAME:CET
DTSTART:20231029T010000
END:STANDARD
BEGIN:DAYLIGHT
TZOFFSETFROM:+0100
TZOFFSETTO:+0200
TZNAME:CEST
DTSTART:20240331T010000
END:DAYLIGHT
BEGIN:STANDARD
TZOFFSETFROM:+0200
TZOFFSETTO:+0100
TZNAME:CET
DTSTART:20241027T010000
END:STANDARD
BEGIN:DAYLIGHT
TZOFFSETFROM:+0100
TZOFFSETTO:+0200
TZNAME:CEST
DTSTART:20250330T010000
END:DAYLIGHT
BEGIN:STANDARD
TZOFFSETFROM:+0200
TZOFFSETTO:+0100
TZNAME:CET
DTSTART:20251026T010000
END:STANDARD
BEGIN:DAYLIGHT
TZOFFSETFROM:+0100
TZOFFSETTO:+0200
TZNAME:CEST
DTSTART:20260329T010000
END:DAYLIGHT
BEGIN:STANDARD
TZOFFSETFROM:+0200
TZOFFSETTO:+0100
TZNAME:CET
DTSTART:20261025T010000
END:STANDARD
END:VTIMEZONE
BEGIN:VEVENT
DTSTART;TZID=Europe/Zagreb:20250131T180000
DTEND;TZID=Europe/Zagreb:20250131T220000
DTSTAMP:20260420T131810
CREATED:20250131T113802Z
LAST-MODIFIED:20250131T113802Z
UID:10000073-1738346400-1738360800@kulturnihorizont.com
SUMMARY:Noć muzeja u Tomislavgradu
DESCRIPTION:Kulturno-informativni centar u suradnji s Franjevačkim muzejom Tomislavgrad i Općinom Tomislavgrad i ove godine organizira već tradicionalnu devetu Noć muzeja\, u petak 31. siječnja 2025. godine\, od 18 do 22 sata.\n\n\nOva godina je u znaku 1100. obljetnice krunidbe kralja Tomislava na Duvanjskom polju tako da i će ovogodišnja Noć muzeja biti u tome duhu.\n\n\nManifestacija započinje Predstavljanjem programa obilježavanja 1100. obljetnice Hrvatskog Kraljevstva i krunidbe kralja Tomislava na Duvanjskom polju u 18:00 sati u kino-dvorani KIC-a. Predstavljanjem programa započinjemo proslavu i obilježavanje jednog od najznačajnijih događaja u povijesti hrvatskog naroda – krunidbe prvog hrvatskog kralja Tomislava na Duvanjskom polju.\nNakon toga u Gradskog galeriji KIC-a bit će otvorena izložba fotografija ”Tomislav\, prvi hrvatski kralj i Duvanjsko polje. Povijest u predaji.” u suradnji s Udrugom za očuvanje i promicanje tradicijske kulture u Bosni i Hercegovini „Stećak”. Autor izložbe je o. Zvonko Martić\, karmelićanin. Fotografije je snimio Jasmin Fazlagić\, umjetnički fotograf.\n\n\nO izložbi Zvonko piše sljedeće: ”Osnovna ideja vodilja u povijesnom uprizorenju krunidbe kralja Tomislava bila je u uporištu da znamo kako su se ornamenti koji se pojavljuju u arhitekturi uvijek pojavljuju i na odjevnim i uporabnim predmetima. U to je vrijeme\, 10. stoljeće\, likovna umjetnost u našim krajevima prvenstveno ornamentalna\, uglavnom nema figuracije\, a glavno obilježje likovnosti u srednjovjekovnoj Hrvatskoj su pleteri koji su pronađeni na crkvenom namještaju\, oltarskim pregradama\, ciborijima i nadvratnicima. Pleteri kao glavni motivi izabrani su iz dva razloga: osim što su autentično starohrvatski oni u sebi nose i simboliku ispreplitanja beskonačnog\, prolaznog i vječnog postojanja\, dok troplet simbolizira i Sveto Trojstvo kao i sadašnjost\, prošlost i budućnost. Uz pletere u izradi kraljevskih insignija i odjeće uzeti su i motivi križa i ptica. Htijući upisati lokalnu duvanjsku baštinu korišten je tzv. Duvanjski križ. Originalni križ potječe najvjerojatnije iz 6. stoljeća i pronađen je u nekropoli u Koritima na Buškom jezeru. Uz motive pletera stilizacija ovoga križa postala je središnjim motivom cijelog projekta.”\n\n\nU 19:00 sati u Franjevačkom muzeju ”fra Jozo Križić” u Tomislavgradu otvorit će se izložba “Chroatorum Bellatores – ratnici u ranom srednjem vijeku”\, u suradnji s Muzejom hrvatskih arheoloških spomenika – Split.\nO ovoj izložbi izdvajamo dio teksta: ”Utemeljenje i održavanje državnosti i identiteta u prošlosti\, kao i danas\, možda je najčešće vezano upravo za ratovanje. Tako bi ratnici igrali važnu\, možda i odlučujuću ulogu u utemeljenju hrvatske države u srednjem vijeku\, a potom i hrvatskog identiteta uopće. Njihovi su arheološki tragovi zaista brojni\, a uz to intrigantni i atraktivni jer često uz funkcionalnu zadaću imaju i onu estetsku\, dosežući čak i do umjetničkih vrijednosti.”\n\n\nZa posjete će u vremenu od 19 do 22 sata biti otvorene Džudža Džaferova džamija\, pravoslavna crkva sv. Nikole\, i spomen-bazilika sv. Nikole Tavelića kao i sve stalne postave franjevačkog muzeja.\n\n\nTakođer prigodno će biti otvorena i Duvanjska kuća u kojoj možete kupiti domaće proizvode kao i razne suvenire s temom 1100. obljetnice.\n\n\n\n	Srodno
URL:https://kulturnihorizont.com/event/noc-muzeja-u-tomislavgradu/
LOCATION:Kulturno-informativni centar Tomislavgrad\, Tomislavgrad
ATTACH;FMTTYPE=image/jpeg:https://kulturnihorizont.com/wp-content/uploads/2025/01/474934129_605600368783155_6258856858434074106_n.jpg
END:VEVENT
BEGIN:VEVENT
DTSTART;TZID=Europe/Zagreb:20250131T180000
DTEND;TZID=Europe/Zagreb:20250131T190000
DTSTAMP:20260420T131810
CREATED:20250122T131129Z
LAST-MODIFIED:20250122T131129Z
UID:10000058-1738346400-1738350000@kulturnihorizont.com
SUMMARY:Predstavljanje Programa obilježavanja 1100. obljetnice Hrvatskog kraljevstva
DESCRIPTION:Srodno
URL:https://kulturnihorizont.com/event/predstavljanje-programa-obiljezavanja-1100-obljetnice-hrvatskog-kraljevstva/
LOCATION:Kulturno-informativni centar Tomislavgrad\, Tomislavgrad
CATEGORIES:Kalendar
ATTACH;FMTTYPE=image/jpeg:https://kulturnihorizont.com/wp-content/uploads/2025/01/20a607e6-9bfd-4263-9530-d77e149a7819.jpeg
END:VEVENT
BEGIN:VEVENT
DTSTART;TZID=Europe/Zagreb:20241223T190000
DTEND;TZID=Europe/Zagreb:20241223T200000
DTSTAMP:20260420T131810
CREATED:20241219T172835Z
LAST-MODIFIED:20241219T172835Z
UID:10000022-1734980400-1734984000@kulturnihorizont.com
SUMMARY:26. samostalni koncert Tomislavgradskih mažoretkinja
DESCRIPTION:Srodno
URL:https://kulturnihorizont.com/event/26-samostalni-koncert-tomislavgradskih-mazoretkinja/
LOCATION:Kulturno-informativni centar Tomislavgrad\, Tomislavgrad
CATEGORIES:Kalendar
ATTACH;FMTTYPE=image/jpeg:https://kulturnihorizont.com/wp-content/uploads/2024/12/470185405_985156293633130_8951989493926368110_n.jpg
END:VEVENT
BEGIN:VEVENT
DTSTART;TZID=Europe/Zagreb:20241222T200000
DTEND;TZID=Europe/Zagreb:20241222T210000
DTSTAMP:20260420T131810
CREATED:20241220T183726Z
LAST-MODIFIED:20241220T183726Z
UID:10000033-1734897600-1734901200@kulturnihorizont.com
SUMMARY:Humanitarna predstava "Idiotska gimnazija"
DESCRIPTION:Srodno
URL:https://kulturnihorizont.com/event/humanitarna-predstava-idiotska-gimnazija/
LOCATION:Kulturno-informativni centar Tomislavgrad\, Tomislavgrad
CATEGORIES:Kalendar
ATTACH;FMTTYPE=image/jpeg:https://kulturnihorizont.com/wp-content/uploads/2024/12/469833144_18343191007132665_974262704040529807_n.jpg
END:VEVENT
BEGIN:VEVENT
DTSTART;TZID=Europe/Zagreb:20241220T190000
DTEND;TZID=Europe/Zagreb:20241220T200000
DTSTAMP:20260420T131810
CREATED:20241219T172215Z
LAST-MODIFIED:20241219T172215Z
UID:10000021-1734721200-1734724800@kulturnihorizont.com
SUMMARY:Premijera predstave ''Ježeva kućica'' uTomislavgradu
DESCRIPTION:Srodno
URL:https://kulturnihorizont.com/event/premijera-predstave-jezeva-kucica-utomislavgradu/
LOCATION:Kulturno-informativni centar Tomislavgrad\, Tomislavgrad
CATEGORIES:Kalendar
ATTACH;FMTTYPE=image/jpeg:https://kulturnihorizont.com/wp-content/uploads/2024/12/470218482_577146108295248_6218051713305277380_n.jpg
END:VEVENT
BEGIN:VEVENT
DTSTART;TZID=Europe/Zagreb:20241219T190000
DTEND;TZID=Europe/Zagreb:20241219T200000
DTSTAMP:20260420T131810
CREATED:20241219T173215Z
LAST-MODIFIED:20241219T173215Z
UID:10000023-1734634800-1734638400@kulturnihorizont.com
SUMMARY:Božićni koncert Osnovne glazbene škole Tomislavgrad
DESCRIPTION:Srodno
URL:https://kulturnihorizont.com/event/bozicni-koncert-osnovne-glazbene-skole-tomislavgrad/
LOCATION:Kulturno-informativni centar Tomislavgrad\, Tomislavgrad
CATEGORIES:Kalendar
ATTACH;FMTTYPE=image/jpeg:https://kulturnihorizont.com/wp-content/uploads/2024/12/470676539_985140956967997_2470918568352915426_n.jpg
END:VEVENT
END:VCALENDAR