BEGIN:VCALENDAR
VERSION:2.0
PRODID:-//Kulturni horizont - ECPv6.15.20//NONSGML v1.0//EN
CALSCALE:GREGORIAN
METHOD:PUBLISH
X-WR-CALNAME:Kulturni horizont
X-ORIGINAL-URL:https://kulturnihorizont.com
X-WR-CALDESC:Događaji za Kulturni horizont
REFRESH-INTERVAL;VALUE=DURATION:PT1H
X-Robots-Tag:noindex
X-PUBLISHED-TTL:PT1H
BEGIN:VTIMEZONE
TZID:Europe/Zagreb
BEGIN:DAYLIGHT
TZOFFSETFROM:+0100
TZOFFSETTO:+0200
TZNAME:CEST
DTSTART:20240331T010000
END:DAYLIGHT
BEGIN:STANDARD
TZOFFSETFROM:+0200
TZOFFSETTO:+0100
TZNAME:CET
DTSTART:20241027T010000
END:STANDARD
BEGIN:DAYLIGHT
TZOFFSETFROM:+0100
TZOFFSETTO:+0200
TZNAME:CEST
DTSTART:20250330T010000
END:DAYLIGHT
BEGIN:STANDARD
TZOFFSETFROM:+0200
TZOFFSETTO:+0100
TZNAME:CET
DTSTART:20251026T010000
END:STANDARD
BEGIN:DAYLIGHT
TZOFFSETFROM:+0100
TZOFFSETTO:+0200
TZNAME:CEST
DTSTART:20260329T010000
END:DAYLIGHT
BEGIN:STANDARD
TZOFFSETFROM:+0200
TZOFFSETTO:+0100
TZNAME:CET
DTSTART:20261025T010000
END:STANDARD
END:VTIMEZONE
BEGIN:VEVENT
DTSTART;TZID=Europe/Zagreb:20250921T190000
DTEND;TZID=Europe/Zagreb:20250921T200000
DTSTAMP:20260425T040305
CREATED:20250917T072530Z
LAST-MODIFIED:20250917T073131Z
UID:10000163-1758481200-1758484800@kulturnihorizont.com
SUMMARY:Glazbeno-scenska legenda „Krunidba kralja Tomislava“ stiže u Mostar!
DESCRIPTION:Srodno
URL:https://kulturnihorizont.com/event/glazbeno-scenska-legenda-krunidba-kralja-tomislava-stize-u-mostar/
LOCATION:Hrvatski dom hercega Stjepana Kosače\, Mostar\, Bosnia and Herzegovina
CATEGORIES:Kalendar
ATTACH;FMTTYPE=image/jpeg:https://kulturnihorizont.com/wp-content/uploads/2025/09/e5fa62ef-9383-456c-b00d-75fd95f2bb3a.jpeg
END:VEVENT
END:VCALENDAR