BEGIN:VCALENDAR
VERSION:2.0
PRODID:-//Kulturni horizont - ECPv6.15.20//NONSGML v1.0//EN
CALSCALE:GREGORIAN
METHOD:PUBLISH
X-ORIGINAL-URL:https://kulturnihorizont.com
X-WR-CALDESC:Događaji za Kulturni horizont
REFRESH-INTERVAL;VALUE=DURATION:PT1H
X-Robots-Tag:noindex
X-PUBLISHED-TTL:PT1H
BEGIN:VTIMEZONE
TZID:Europe/Zagreb
BEGIN:DAYLIGHT
TZOFFSETFROM:+0100
TZOFFSETTO:+0200
TZNAME:CEST
DTSTART:20230326T010000
END:DAYLIGHT
BEGIN:STANDARD
TZOFFSETFROM:+0200
TZOFFSETTO:+0100
TZNAME:CET
DTSTART:20231029T010000
END:STANDARD
BEGIN:DAYLIGHT
TZOFFSETFROM:+0100
TZOFFSETTO:+0200
TZNAME:CEST
DTSTART:20240331T010000
END:DAYLIGHT
BEGIN:STANDARD
TZOFFSETFROM:+0200
TZOFFSETTO:+0100
TZNAME:CET
DTSTART:20241027T010000
END:STANDARD
BEGIN:DAYLIGHT
TZOFFSETFROM:+0100
TZOFFSETTO:+0200
TZNAME:CEST
DTSTART:20250330T010000
END:DAYLIGHT
BEGIN:STANDARD
TZOFFSETFROM:+0200
TZOFFSETTO:+0100
TZNAME:CET
DTSTART:20251026T010000
END:STANDARD
BEGIN:DAYLIGHT
TZOFFSETFROM:+0100
TZOFFSETTO:+0200
TZNAME:CEST
DTSTART:20260329T010000
END:DAYLIGHT
BEGIN:STANDARD
TZOFFSETFROM:+0200
TZOFFSETTO:+0100
TZNAME:CET
DTSTART:20261025T010000
END:STANDARD
END:VTIMEZONE
BEGIN:VEVENT
DTSTART;TZID=Europe/Zagreb:20250726T190000
DTEND;TZID=Europe/Zagreb:20250726T210000
DTSTAMP:20260424T213118
CREATED:20250721T204814Z
LAST-MODIFIED:20250721T204814Z
UID:10000150-1753556400-1753563600@kulturnihorizont.com
SUMMARY:9. Međunarodna smotra folklora "Kad zapivam niz livanjsku stranu"
DESCRIPTION:Srodno
URL:https://kulturnihorizont.com/event/9-medunarodna-smotra-folklora-kad-zapivam-niz-livanjsku-stranu/
LOCATION:Gradski park\, Livno\, Bosnia and Herzegovina
CATEGORIES:Kalendar
ATTACH;FMTTYPE=image/jpeg:https://kulturnihorizont.com/wp-content/uploads/2025/07/518393275_4200525300228764_6078142883823184942_n.jpg
END:VEVENT
BEGIN:VEVENT
DTSTART;TZID=Europe/Zagreb:20241228T170000
DTEND;TZID=Europe/Zagreb:20241228T180000
DTSTAMP:20260424T213118
CREATED:20241222T201019Z
LAST-MODIFIED:20241222T201019Z
UID:10000035-1735405200-1735408800@kulturnihorizont.com
SUMMARY:Božićna čajanka u Glamoču
DESCRIPTION:Srodno
URL:https://kulturnihorizont.com/event/bozicna-cajanka-u-glamocu/
LOCATION:Gradski park\, Livno\, Bosnia and Herzegovina
CATEGORIES:Kalendar
ATTACH;FMTTYPE=image/jpeg:https://kulturnihorizont.com/wp-content/uploads/2024/12/470182055_611950388072933_191046713737515823_n.jpg
END:VEVENT
END:VCALENDAR