BEGIN:VCALENDAR
VERSION:2.0
PRODID:-//Kulturni horizont - ECPv6.15.20//NONSGML v1.0//EN
CALSCALE:GREGORIAN
METHOD:PUBLISH
X-WR-CALNAME:Kulturni horizont
X-ORIGINAL-URL:https://kulturnihorizont.com
X-WR-CALDESC:Događaji za Kulturni horizont
REFRESH-INTERVAL;VALUE=DURATION:PT1H
X-Robots-Tag:noindex
X-PUBLISHED-TTL:PT1H
BEGIN:VTIMEZONE
TZID:Europe/Zagreb
BEGIN:DAYLIGHT
TZOFFSETFROM:+0100
TZOFFSETTO:+0200
TZNAME:CEST
DTSTART:20260329T010000
END:DAYLIGHT
BEGIN:STANDARD
TZOFFSETFROM:+0200
TZOFFSETTO:+0100
TZNAME:CET
DTSTART:20261025T010000
END:STANDARD
BEGIN:DAYLIGHT
TZOFFSETFROM:+0100
TZOFFSETTO:+0200
TZNAME:CEST
DTSTART:20270328T010000
END:DAYLIGHT
BEGIN:STANDARD
TZOFFSETFROM:+0200
TZOFFSETTO:+0100
TZNAME:CET
DTSTART:20271031T010000
END:STANDARD
BEGIN:DAYLIGHT
TZOFFSETFROM:+0100
TZOFFSETTO:+0200
TZNAME:CEST
DTSTART:20280326T010000
END:DAYLIGHT
BEGIN:STANDARD
TZOFFSETFROM:+0200
TZOFFSETTO:+0100
TZNAME:CET
DTSTART:20281029T010000
END:STANDARD
BEGIN:DAYLIGHT
TZOFFSETFROM:+0100
TZOFFSETTO:+0200
TZNAME:CEST
DTSTART:20290325T010000
END:DAYLIGHT
BEGIN:STANDARD
TZOFFSETFROM:+0200
TZOFFSETTO:+0100
TZNAME:CET
DTSTART:20291028T010000
END:STANDARD
BEGIN:DAYLIGHT
TZOFFSETFROM:+0100
TZOFFSETTO:+0200
TZNAME:CEST
DTSTART:20300331T010000
END:DAYLIGHT
BEGIN:STANDARD
TZOFFSETFROM:+0200
TZOFFSETTO:+0100
TZNAME:CET
DTSTART:20301027T010000
END:STANDARD
END:VTIMEZONE
BEGIN:VEVENT
DTSTART;VALUE=DATE:20270303
DTEND;VALUE=DATE:20270304
DTSTAMP:20260421T110300
CREATED:20250302T183730Z
LAST-MODIFIED:20250302T183855Z
UID:10000119-1804032000-1804118399@kulturnihorizont.com
SUMMARY:dr. fra Mihovil Sučić (26. 6. 1820. - 3. 3. 1865.)
DESCRIPTION:Dr. fra Mihovil Sučić\, krsnim imenom Stjepan\, rođen je 26. lipnja 1820. godine\nu Livnu od roditelja Petra Sučića i majke Ruže rođene Gelić iz Šujice. Osnovno\nobrazovanje stekao je u Livnu. Budući da je izrazio želju postati svećenikom\nredovnikom\, upućen je u Fojnicu na dalje školovanje. Primljen je u novicijat 14. srpnja\n1837. godine. Nakon završenog novicijata u Fojnici 1838. odlazi u Veneciju na\nfilozofsko-teološki studij. Za svećenika je zaređen 1843. godine. \nNakon završenog studija filozofije i teologije u Veneciji\, fra Mihovil\ntijekom 1845. godine dobiva dopuštenje crkvenih i redovničkih vlasti za studiranje\nmedicine i kirurgije u Padovi. Studij medicine i kirurgije završava 1851. godine.\nPotom se vraća u Bosnu gdje se posebice posvećuje apostolatu medicine\,\nobavljajući medicinsku praksu karitativno\, udruženo sa svojim franjevačkim\nposlanjem. Tako je istodobno bio članom svekolikog franjevačkog bratstva\, a i\nčlanom univerzalnog liječničkog bratstva koje neprekinuto traje otkako se liječništvo\nzačelo\, preko Hipokratove liječničke deontologije do današnjih dana. \nIzgleda da se po povratku u Bosnu fra Mihovil uglavnom bavio liječništvom\, a\nmanje pastoralnim radom. Jedan kroničar bilježi: “Teško je i pojmiti što sve morade\npretrpjeti u obavljanju liječničke službe dr. fra Mihovil. Nije bilo fijakera ni željeznica\,\nnego torbu s kirurškim instrumentima na rame i štap u ruke pa je tako obilazio sela i\ngradove svuda svoju izvanrednu vještinu pokazujući. Bolesnik\, čim bi čuo da dr. fra\nMijo hećim /kako su ga u narodu popularno zvali/ dolazi\, odmah bi se sretnim osjetio\,\nznao je da mu dolazi vješti i ljubežljivi liječnik\, koji ne traži svoju korist\, nego jedino\nozdravljanje bolesnika”. O njegovom umijeću i savjesti pričalo se po Bosni. \nKrajem veljače 1865. godine bi pozvan u Šujicu da pomogne pri porodu jednoj\nmuslimanki. Pomoć je bila djelotvorna\, majka i dijete spašeni su. Ako je vjerovati\nnarodnoj predaji\, fra Mihovil je tu pacijenticu porodio carskim rezom. Međutim\, sati i\nsati pješačenja\, surova i nemilosrdna zima\, te zdravlje koje je već bilo narušeno\nučinili su svoje. Fra Mihovil je obolio od teške upale pluća i umro u Livnu 3. ožujka\n1865. Imao je samo 45 godina. \nPokopan je na livanjskom groblju Gorica\, a njegov velebni nadgrobni\nspomenik podigoše livanjski franjevci tri godine nakon njegove smrti. Golemi kameni\nblok\, 3\,5 m visok križ\, sarkofag 3\,80 dug i 1\,5 m širok i 1\,90 visok\, dominira grobljem.\nNa spomeniku piše: “Žertva ljubavi krstjanske\, pade 3. ožujka 1865. V. C:O:\nMIHOVIL SUČIĆ\, rođen u Livnu\, red S.O. FRANJE\, naučitelj ljekarstva i ranarstva\ndobi 45”. Nešto niže: “KOMU zafalna bratja redovnici zgroznim suzam staviše\nspomenik ovaj 1868”. Ispod toga “Dovuče iz Žabljaka obitelj Ivana MIHALJEVIĆA iz\nZagoričana\, spomocju obitelji Mate MIHALJEVIĆA iz Potočana na 28 volovah”. \nPovijest liječništva u Bosni\, uz ljekaruše kojima su se bavili bosanski franjevci\,\nobilježena je i likom fra Mihovila Sučića. Dr. fra Mihovil Sučić\, liječnik i teolog\, u svom\nje liječničkom djelovanju primjenjivao suvremene metode liječenja\, služio se\nsuvremenom medicinskom literaturom i instrumentarijem u izoliranim bosanskim\nvrletima. Analizirajući njegovo liječničko djelovanje\, može se reći da je fra Mihovil\nSučić\, liječnik i kirurg\, u bosansko-hercegovačkoj zdravstvenoj zaštiti načinio\nprekretnicu\, budući da je on zdravstvenu zaštitu podigao na znanstvenu razinu.\nUnatoč teškim i nemirnim vremenima u kojima je živio i djelovao dr. fra Mihovil Sučić\,\nvremenima ispunjenim nepovjerenjem i podjelama\, s jasnom granicom između\npojedinih naroda i vjera\, on je istraživač koji je vođen radoznalošću\, koji je spreman\nna profesionalni izazov\, koji se upušta u nove zahvate\, koji liječi i pomaže svim\nbolesnicima bez obzira na njihovu vjeru\, spol ili socijalni status. \nU livanjskom Franjevačkom muzeju i galeriji kao trajna i draga uspomena na\ntog u svom poslu neumorna liječnika i kirurga čuvaju se: kožna torba sa zubarskim\ninstrumentima\, apotekarskom vagom\, žljebastom sondom\, iglama za punkciju i\nnoževima; zatim kirurški instrumenti\, anatomski atlas iz 1838. godine i 60 tomova\nstručnih knjiga na latinskom i talijanskom jeziku.
URL:https://kulturnihorizont.com/event/dr-fra-mihovil-sucic-26-6-1820-3-3-1865/2027-03-03/
CATEGORIES:Znamenite osobe
ATTACH;FMTTYPE=image/jpeg:https://kulturnihorizont.com/wp-content/uploads/2025/03/2002-bista-dr-fra-mihovil-sucic-naslovnica.jpg
END:VEVENT
BEGIN:VEVENT
DTSTART;VALUE=DATE:20280303
DTEND;VALUE=DATE:20280304
DTSTAMP:20260421T110300
CREATED:20250302T183730Z
LAST-MODIFIED:20250302T183855Z
UID:10000120-1835654400-1835740799@kulturnihorizont.com
SUMMARY:dr. fra Mihovil Sučić (26. 6. 1820. - 3. 3. 1865.)
DESCRIPTION:Dr. fra Mihovil Sučić\, krsnim imenom Stjepan\, rođen je 26. lipnja 1820. godine\nu Livnu od roditelja Petra Sučića i majke Ruže rođene Gelić iz Šujice. Osnovno\nobrazovanje stekao je u Livnu. Budući da je izrazio želju postati svećenikom\nredovnikom\, upućen je u Fojnicu na dalje školovanje. Primljen je u novicijat 14. srpnja\n1837. godine. Nakon završenog novicijata u Fojnici 1838. odlazi u Veneciju na\nfilozofsko-teološki studij. Za svećenika je zaređen 1843. godine. \nNakon završenog studija filozofije i teologije u Veneciji\, fra Mihovil\ntijekom 1845. godine dobiva dopuštenje crkvenih i redovničkih vlasti za studiranje\nmedicine i kirurgije u Padovi. Studij medicine i kirurgije završava 1851. godine.\nPotom se vraća u Bosnu gdje se posebice posvećuje apostolatu medicine\,\nobavljajući medicinsku praksu karitativno\, udruženo sa svojim franjevačkim\nposlanjem. Tako je istodobno bio članom svekolikog franjevačkog bratstva\, a i\nčlanom univerzalnog liječničkog bratstva koje neprekinuto traje otkako se liječništvo\nzačelo\, preko Hipokratove liječničke deontologije do današnjih dana. \nIzgleda da se po povratku u Bosnu fra Mihovil uglavnom bavio liječništvom\, a\nmanje pastoralnim radom. Jedan kroničar bilježi: “Teško je i pojmiti što sve morade\npretrpjeti u obavljanju liječničke službe dr. fra Mihovil. Nije bilo fijakera ni željeznica\,\nnego torbu s kirurškim instrumentima na rame i štap u ruke pa je tako obilazio sela i\ngradove svuda svoju izvanrednu vještinu pokazujući. Bolesnik\, čim bi čuo da dr. fra\nMijo hećim /kako su ga u narodu popularno zvali/ dolazi\, odmah bi se sretnim osjetio\,\nznao je da mu dolazi vješti i ljubežljivi liječnik\, koji ne traži svoju korist\, nego jedino\nozdravljanje bolesnika”. O njegovom umijeću i savjesti pričalo se po Bosni. \nKrajem veljače 1865. godine bi pozvan u Šujicu da pomogne pri porodu jednoj\nmuslimanki. Pomoć je bila djelotvorna\, majka i dijete spašeni su. Ako je vjerovati\nnarodnoj predaji\, fra Mihovil je tu pacijenticu porodio carskim rezom. Međutim\, sati i\nsati pješačenja\, surova i nemilosrdna zima\, te zdravlje koje je već bilo narušeno\nučinili su svoje. Fra Mihovil je obolio od teške upale pluća i umro u Livnu 3. ožujka\n1865. Imao je samo 45 godina. \nPokopan je na livanjskom groblju Gorica\, a njegov velebni nadgrobni\nspomenik podigoše livanjski franjevci tri godine nakon njegove smrti. Golemi kameni\nblok\, 3\,5 m visok križ\, sarkofag 3\,80 dug i 1\,5 m širok i 1\,90 visok\, dominira grobljem.\nNa spomeniku piše: “Žertva ljubavi krstjanske\, pade 3. ožujka 1865. V. C:O:\nMIHOVIL SUČIĆ\, rođen u Livnu\, red S.O. FRANJE\, naučitelj ljekarstva i ranarstva\ndobi 45”. Nešto niže: “KOMU zafalna bratja redovnici zgroznim suzam staviše\nspomenik ovaj 1868”. Ispod toga “Dovuče iz Žabljaka obitelj Ivana MIHALJEVIĆA iz\nZagoričana\, spomocju obitelji Mate MIHALJEVIĆA iz Potočana na 28 volovah”. \nPovijest liječništva u Bosni\, uz ljekaruše kojima su se bavili bosanski franjevci\,\nobilježena je i likom fra Mihovila Sučića. Dr. fra Mihovil Sučić\, liječnik i teolog\, u svom\nje liječničkom djelovanju primjenjivao suvremene metode liječenja\, služio se\nsuvremenom medicinskom literaturom i instrumentarijem u izoliranim bosanskim\nvrletima. Analizirajući njegovo liječničko djelovanje\, može se reći da je fra Mihovil\nSučić\, liječnik i kirurg\, u bosansko-hercegovačkoj zdravstvenoj zaštiti načinio\nprekretnicu\, budući da je on zdravstvenu zaštitu podigao na znanstvenu razinu.\nUnatoč teškim i nemirnim vremenima u kojima je živio i djelovao dr. fra Mihovil Sučić\,\nvremenima ispunjenim nepovjerenjem i podjelama\, s jasnom granicom između\npojedinih naroda i vjera\, on je istraživač koji je vođen radoznalošću\, koji je spreman\nna profesionalni izazov\, koji se upušta u nove zahvate\, koji liječi i pomaže svim\nbolesnicima bez obzira na njihovu vjeru\, spol ili socijalni status. \nU livanjskom Franjevačkom muzeju i galeriji kao trajna i draga uspomena na\ntog u svom poslu neumorna liječnika i kirurga čuvaju se: kožna torba sa zubarskim\ninstrumentima\, apotekarskom vagom\, žljebastom sondom\, iglama za punkciju i\nnoževima; zatim kirurški instrumenti\, anatomski atlas iz 1838. godine i 60 tomova\nstručnih knjiga na latinskom i talijanskom jeziku.
URL:https://kulturnihorizont.com/event/dr-fra-mihovil-sucic-26-6-1820-3-3-1865/2028-03-03/
CATEGORIES:Znamenite osobe
ATTACH;FMTTYPE=image/jpeg:https://kulturnihorizont.com/wp-content/uploads/2025/03/2002-bista-dr-fra-mihovil-sucic-naslovnica.jpg
END:VEVENT
BEGIN:VEVENT
DTSTART;VALUE=DATE:20290303
DTEND;VALUE=DATE:20290304
DTSTAMP:20260421T110300
CREATED:20250302T183730Z
LAST-MODIFIED:20250302T183855Z
UID:10000121-1867190400-1867276799@kulturnihorizont.com
SUMMARY:dr. fra Mihovil Sučić (26. 6. 1820. - 3. 3. 1865.)
DESCRIPTION:Dr. fra Mihovil Sučić\, krsnim imenom Stjepan\, rođen je 26. lipnja 1820. godine\nu Livnu od roditelja Petra Sučića i majke Ruže rođene Gelić iz Šujice. Osnovno\nobrazovanje stekao je u Livnu. Budući da je izrazio želju postati svećenikom\nredovnikom\, upućen je u Fojnicu na dalje školovanje. Primljen je u novicijat 14. srpnja\n1837. godine. Nakon završenog novicijata u Fojnici 1838. odlazi u Veneciju na\nfilozofsko-teološki studij. Za svećenika je zaređen 1843. godine. \nNakon završenog studija filozofije i teologije u Veneciji\, fra Mihovil\ntijekom 1845. godine dobiva dopuštenje crkvenih i redovničkih vlasti za studiranje\nmedicine i kirurgije u Padovi. Studij medicine i kirurgije završava 1851. godine.\nPotom se vraća u Bosnu gdje se posebice posvećuje apostolatu medicine\,\nobavljajući medicinsku praksu karitativno\, udruženo sa svojim franjevačkim\nposlanjem. Tako je istodobno bio članom svekolikog franjevačkog bratstva\, a i\nčlanom univerzalnog liječničkog bratstva koje neprekinuto traje otkako se liječništvo\nzačelo\, preko Hipokratove liječničke deontologije do današnjih dana. \nIzgleda da se po povratku u Bosnu fra Mihovil uglavnom bavio liječništvom\, a\nmanje pastoralnim radom. Jedan kroničar bilježi: “Teško je i pojmiti što sve morade\npretrpjeti u obavljanju liječničke službe dr. fra Mihovil. Nije bilo fijakera ni željeznica\,\nnego torbu s kirurškim instrumentima na rame i štap u ruke pa je tako obilazio sela i\ngradove svuda svoju izvanrednu vještinu pokazujući. Bolesnik\, čim bi čuo da dr. fra\nMijo hećim /kako su ga u narodu popularno zvali/ dolazi\, odmah bi se sretnim osjetio\,\nznao je da mu dolazi vješti i ljubežljivi liječnik\, koji ne traži svoju korist\, nego jedino\nozdravljanje bolesnika”. O njegovom umijeću i savjesti pričalo se po Bosni. \nKrajem veljače 1865. godine bi pozvan u Šujicu da pomogne pri porodu jednoj\nmuslimanki. Pomoć je bila djelotvorna\, majka i dijete spašeni su. Ako je vjerovati\nnarodnoj predaji\, fra Mihovil je tu pacijenticu porodio carskim rezom. Međutim\, sati i\nsati pješačenja\, surova i nemilosrdna zima\, te zdravlje koje je već bilo narušeno\nučinili su svoje. Fra Mihovil je obolio od teške upale pluća i umro u Livnu 3. ožujka\n1865. Imao je samo 45 godina. \nPokopan je na livanjskom groblju Gorica\, a njegov velebni nadgrobni\nspomenik podigoše livanjski franjevci tri godine nakon njegove smrti. Golemi kameni\nblok\, 3\,5 m visok križ\, sarkofag 3\,80 dug i 1\,5 m širok i 1\,90 visok\, dominira grobljem.\nNa spomeniku piše: “Žertva ljubavi krstjanske\, pade 3. ožujka 1865. V. C:O:\nMIHOVIL SUČIĆ\, rođen u Livnu\, red S.O. FRANJE\, naučitelj ljekarstva i ranarstva\ndobi 45”. Nešto niže: “KOMU zafalna bratja redovnici zgroznim suzam staviše\nspomenik ovaj 1868”. Ispod toga “Dovuče iz Žabljaka obitelj Ivana MIHALJEVIĆA iz\nZagoričana\, spomocju obitelji Mate MIHALJEVIĆA iz Potočana na 28 volovah”. \nPovijest liječništva u Bosni\, uz ljekaruše kojima su se bavili bosanski franjevci\,\nobilježena je i likom fra Mihovila Sučića. Dr. fra Mihovil Sučić\, liječnik i teolog\, u svom\nje liječničkom djelovanju primjenjivao suvremene metode liječenja\, služio se\nsuvremenom medicinskom literaturom i instrumentarijem u izoliranim bosanskim\nvrletima. Analizirajući njegovo liječničko djelovanje\, može se reći da je fra Mihovil\nSučić\, liječnik i kirurg\, u bosansko-hercegovačkoj zdravstvenoj zaštiti načinio\nprekretnicu\, budući da je on zdravstvenu zaštitu podigao na znanstvenu razinu.\nUnatoč teškim i nemirnim vremenima u kojima je živio i djelovao dr. fra Mihovil Sučić\,\nvremenima ispunjenim nepovjerenjem i podjelama\, s jasnom granicom između\npojedinih naroda i vjera\, on je istraživač koji je vođen radoznalošću\, koji je spreman\nna profesionalni izazov\, koji se upušta u nove zahvate\, koji liječi i pomaže svim\nbolesnicima bez obzira na njihovu vjeru\, spol ili socijalni status. \nU livanjskom Franjevačkom muzeju i galeriji kao trajna i draga uspomena na\ntog u svom poslu neumorna liječnika i kirurga čuvaju se: kožna torba sa zubarskim\ninstrumentima\, apotekarskom vagom\, žljebastom sondom\, iglama za punkciju i\nnoževima; zatim kirurški instrumenti\, anatomski atlas iz 1838. godine i 60 tomova\nstručnih knjiga na latinskom i talijanskom jeziku.
URL:https://kulturnihorizont.com/event/dr-fra-mihovil-sucic-26-6-1820-3-3-1865/2029-03-03/
CATEGORIES:Znamenite osobe
ATTACH;FMTTYPE=image/jpeg:https://kulturnihorizont.com/wp-content/uploads/2025/03/2002-bista-dr-fra-mihovil-sucic-naslovnica.jpg
END:VEVENT
END:VCALENDAR