BEGIN:VCALENDAR
VERSION:2.0
PRODID:-//Kulturni horizont - ECPv6.15.20//NONSGML v1.0//EN
CALSCALE:GREGORIAN
METHOD:PUBLISH
X-WR-CALNAME:Kulturni horizont
X-ORIGINAL-URL:https://kulturnihorizont.com
X-WR-CALDESC:Događaji za Kulturni horizont
REFRESH-INTERVAL;VALUE=DURATION:PT1H
X-Robots-Tag:noindex
X-PUBLISHED-TTL:PT1H
BEGIN:VTIMEZONE
TZID:Europe/Zagreb
BEGIN:DAYLIGHT
TZOFFSETFROM:+0100
TZOFFSETTO:+0200
TZNAME:CEST
DTSTART:20250330T010000
END:DAYLIGHT
BEGIN:STANDARD
TZOFFSETFROM:+0200
TZOFFSETTO:+0100
TZNAME:CET
DTSTART:20251026T010000
END:STANDARD
BEGIN:DAYLIGHT
TZOFFSETFROM:+0100
TZOFFSETTO:+0200
TZNAME:CEST
DTSTART:20260329T010000
END:DAYLIGHT
BEGIN:STANDARD
TZOFFSETFROM:+0200
TZOFFSETTO:+0100
TZNAME:CET
DTSTART:20261025T010000
END:STANDARD
BEGIN:DAYLIGHT
TZOFFSETFROM:+0100
TZOFFSETTO:+0200
TZNAME:CEST
DTSTART:20270328T010000
END:DAYLIGHT
BEGIN:STANDARD
TZOFFSETFROM:+0200
TZOFFSETTO:+0100
TZNAME:CET
DTSTART:20271031T010000
END:STANDARD
END:VTIMEZONE
BEGIN:VEVENT
DTSTART;TZID=Europe/Zagreb:20260131T190000
DTEND;TZID=Europe/Zagreb:20260131T210000
DTSTAMP:20260422T204108
CREATED:20260128T072703Z
LAST-MODIFIED:20260128T072703Z
UID:10000180-1769886000-1769893200@kulturnihorizont.com
SUMMARY:Putovanja od Sahare do Nordkappa: Željan Rakela stiže u Tomislavgrad
DESCRIPTION:Udruga Kulturni horizont i Moto klub Konjanici iz Tomislavgrada organiziraju putopisno predavanje i moto-edukaciju\, koje će se održati u subotu\, 31. siječnja 2026. godine\, s početkom u 19 sati u Kulturno-informativnom centru u Tomislavgradu. \nPredavač će biti Željan Rakela\, jedan od najpoznatijih motoavanturista na ovim prostorima\, koji će tom prigodom predstaviti svoju knjigu ”300.000 kilometara motoavanture”. \nPutovanja od Sahare do Nordkappa\nU knjizi su opisana Rakelina putovanja kroz Saharu\, Murmansk\, ledeni Nordkapp te najvruću pustinju na svijetu Dašt-e Lut u Iranu. Autor je motociklom prolazio i kroz Himalaje\, vozio se u blizini egipatskih piramida\, putovao kroz brojne europske zemlje\, Sjevernu Ameriku i Australiju. \nKako ističu organizatori\, Rakelina životna priča obiluje jedinstvenim iskustvima i nosi snažnu osobnu poruku\, a predavanje je zamišljeno kao spoj putopisne inspiracije i edukacije o sigurnoj vožnji motociklom. \nHumanitarni moto-projekt\nŽeljan Rakela predsjednik je Moto kluba BMW Dalmacija te nositelj humanitarnog moto-projekta ”PROJEKT 120 – Bradata vožnja Extreme”. Projekt obuhvaća cilj prelaska 120.000 kilometara radi prikupljanja 120.000 eura za Županijsku ligu protiv raka Split\, namijenjenih Kliničkom bolničkom centru Firule. \nŽivotna priča motoavanturista\nRakela je rođen 27. listopada 1976. godine u Splitu. Prvi kontakt s motociklom imao je 1981. godine na otoku Braču\, gdje ga je otac Jakov vozio na motociklu MZ 125 ccm. \nIako kacige tada nisu bile obavezne\, upravo su ti rani doživljaji\, kako navodi\, oblikovali njegovu trajnu ljubav prema motociklima\, putovanjima i avanturi.
URL:https://kulturnihorizont.com/event/putovanja-od-sahare-do-nordkappa-zeljan-rakela-stize-u-tomislavgrad/
LOCATION:Kulturno-informativni centar Tomislavgrad\, Tomislavgrad
CATEGORIES:Kalendar
ATTACH;FMTTYPE=image/avif:https://kulturnihorizont.com/wp-content/uploads/2026/01/594298214_3062695663916504_2785117088684703004_n-1-webp.avif
ORGANIZER;CN="Udruga Kulturni horizont":MAILTO:info@kulturnihorizont.com
END:VEVENT
END:VCALENDAR