BEGIN:VCALENDAR
VERSION:2.0
PRODID:-//Kulturni horizont - ECPv6.15.20//NONSGML v1.0//EN
CALSCALE:GREGORIAN
METHOD:PUBLISH
X-WR-CALNAME:Kulturni horizont
X-ORIGINAL-URL:https://kulturnihorizont.com
X-WR-CALDESC:Događaji za Kulturni horizont
REFRESH-INTERVAL;VALUE=DURATION:PT1H
X-Robots-Tag:noindex
X-PUBLISHED-TTL:PT1H
BEGIN:VTIMEZONE
TZID:Europe/Zagreb
BEGIN:DAYLIGHT
TZOFFSETFROM:+0100
TZOFFSETTO:+0200
TZNAME:CEST
DTSTART:20250330T010000
END:DAYLIGHT
BEGIN:STANDARD
TZOFFSETFROM:+0200
TZOFFSETTO:+0100
TZNAME:CET
DTSTART:20251026T010000
END:STANDARD
BEGIN:DAYLIGHT
TZOFFSETFROM:+0100
TZOFFSETTO:+0200
TZNAME:CEST
DTSTART:20260329T010000
END:DAYLIGHT
BEGIN:STANDARD
TZOFFSETFROM:+0200
TZOFFSETTO:+0100
TZNAME:CET
DTSTART:20261025T010000
END:STANDARD
BEGIN:DAYLIGHT
TZOFFSETFROM:+0100
TZOFFSETTO:+0200
TZNAME:CEST
DTSTART:20270328T010000
END:DAYLIGHT
BEGIN:STANDARD
TZOFFSETFROM:+0200
TZOFFSETTO:+0100
TZNAME:CET
DTSTART:20271031T010000
END:STANDARD
END:VTIMEZONE
BEGIN:VEVENT
DTSTART;TZID=Europe/Zagreb:20260306T190000
DTEND;TZID=Europe/Zagreb:20260306T203000
DTSTAMP:20260420T114008
CREATED:20260303T072751Z
LAST-MODIFIED:20260303T072751Z
UID:10000193-1772823600-1772829000@kulturnihorizont.com
SUMMARY:Predstavljanje knjige Julienne Bušić u Tomislavgradu
DESCRIPTION:
URL:https://kulturnihorizont.com/event/predstavljanje-knjige-julienne-busic-u-tomislavgradu/
LOCATION:Skupština Hercegbosanske županije\, Kralja Zvonimira 32\, Tomislavgrad\, 80240\, Bosnia and Herzegovina
CATEGORIES:Kalendar
ATTACH;FMTTYPE=image/jpeg:https://kulturnihorizont.com/wp-content/uploads/2026/03/645504965_1341456841357163_3877652389737635271_n.jpg
ORGANIZER;CN="Ogranak Matice hrvatske u Tomislavgradu":MAILTO:ogranakmh.tg@gmail.com
END:VEVENT
BEGIN:VEVENT
DTSTART;TZID=Europe/Zagreb:20260219T190000
DTEND;TZID=Europe/Zagreb:20260219T210000
DTSTAMP:20260420T114008
CREATED:20260216T092847Z
LAST-MODIFIED:20260216T093046Z
UID:10000188-1771527600-1771534800@kulturnihorizont.com
SUMMARY:Predstavljanje Antologije hrvatskog rodoljubnog pjeva "OD JADRA DO BAŠKE"
DESCRIPTION:Čast nam je pozvati Vas na predstavljanje Antologije hrvatskog rodoljubnog pjeva “OD JADRA DO BAŠKE” priređivača Ante Nadomira Tadića Šutre\, a kojoj je nakladnik Ogranak Matice hrvatske u Tomislavgradu uz Kninski muzej i Društvo hrvatskih književnika – ogranak Split. Navedena antologija nastala je povodom 1100 obljetnice krunjenja kralja Tomislava na Duvanjskom polju\, a sastoji se od dva dijela. \nPrvi dio obuhvaća pjesme koje tematiziraju hrvatsku povijest od dolaska Hrvata do kralja Tomislava\, a drugi dio od kralja Tomislava do Bašćanske ploče. Ova zbirka rodoljubnih pjesama prvih stoljeća hrvatske državnosti izdana je uz potporu Ministarstva hrvatskih branitelja\, Općine Tomislavgrad i Ministarstva znanosti\, prosvjete kulture i športa Hercegbosanske županije te drugih hrvatskih gradova i institucija. Ovo predstavljanje ujedno je i zadnji događaj vezan za 1100. obljetnicu u Tomislavgradu. \nSav prihod od prodaje knjiga odlučili smo donirati Kninskoj bolnici za nabavku onkološkog aparata zbog\, nažalost\, sve većeg porasta oboljelih od karcinoma. Knjigu će predstavljati naš pjesnik Ante Antek Brajko\, povjesničar i kustos Kninskog muzeja Goran Mrnjavac i priređivač te renomirani hrvatski pjesnik i branitelj Ante Nadomir Tadić Šutra. Vidimo se u galeriji Kulturno-informativni centar Tomislavgrad KIC u četvrtak u 19h.
URL:https://kulturnihorizont.com/event/predstavljanje-antologije-hrvatskog-rodoljubnog-pjeva-od-jadra-do-baske/
LOCATION:Kulturno-informativni centar Tomislavgrad\, Tomislavgrad
CATEGORIES:Kalendar
ATTACH;FMTTYPE=image/jpeg:https://kulturnihorizont.com/wp-content/uploads/2026/02/634951337_1269423455287799_1995988492535945717_n.jpg
ORGANIZER;CN="Ogranak Matice hrvatske u Tomislavgradu":MAILTO:ogranakmh.tg@gmail.com
END:VEVENT
BEGIN:VEVENT
DTSTART;TZID=Europe/Zagreb:20260206T190000
DTEND;TZID=Europe/Zagreb:20260206T200000
DTSTAMP:20260420T114008
CREATED:20260203T115512Z
LAST-MODIFIED:20260203T115512Z
UID:10000183-1770404400-1770408000@kulturnihorizont.com
SUMMARY:Predavanje "Kako je nastalo Blidinje jezero"
DESCRIPTION:
URL:https://kulturnihorizont.com/event/predavanje-kako-je-nastalo-blidinje-jezero/
LOCATION:Skupština Hercegbosanske županije\, Kralja Zvonimira 32\, Tomislavgrad\, 80240\, Bosnia and Herzegovina
CATEGORIES:Kalendar
ATTACH;FMTTYPE=image/jpeg:https://kulturnihorizont.com/wp-content/uploads/2026/02/626444664_1258430393053772_5975498210372197653_n.jpg
ORGANIZER;CN="Ogranak Matice hrvatske u Tomislavgradu":MAILTO:ogranakmh.tg@gmail.com
END:VEVENT
END:VCALENDAR