BEGIN:VCALENDAR
VERSION:2.0
PRODID:-//Kulturni horizont - ECPv6.15.20//NONSGML v1.0//EN
CALSCALE:GREGORIAN
METHOD:PUBLISH
X-WR-CALNAME:Kulturni horizont
X-ORIGINAL-URL:https://kulturnihorizont.com
X-WR-CALDESC:Događaji za Kulturni horizont
REFRESH-INTERVAL;VALUE=DURATION:PT1H
X-Robots-Tag:noindex
X-PUBLISHED-TTL:PT1H
BEGIN:VTIMEZONE
TZID:Europe/Zagreb
BEGIN:DAYLIGHT
TZOFFSETFROM:+0100
TZOFFSETTO:+0200
TZNAME:CEST
DTSTART:20240331T010000
END:DAYLIGHT
BEGIN:STANDARD
TZOFFSETFROM:+0200
TZOFFSETTO:+0100
TZNAME:CET
DTSTART:20241027T010000
END:STANDARD
BEGIN:DAYLIGHT
TZOFFSETFROM:+0100
TZOFFSETTO:+0200
TZNAME:CEST
DTSTART:20250330T010000
END:DAYLIGHT
BEGIN:STANDARD
TZOFFSETFROM:+0200
TZOFFSETTO:+0100
TZNAME:CET
DTSTART:20251026T010000
END:STANDARD
BEGIN:DAYLIGHT
TZOFFSETFROM:+0100
TZOFFSETTO:+0200
TZNAME:CEST
DTSTART:20260329T010000
END:DAYLIGHT
BEGIN:STANDARD
TZOFFSETFROM:+0200
TZOFFSETTO:+0100
TZNAME:CET
DTSTART:20261025T010000
END:STANDARD
BEGIN:DAYLIGHT
TZOFFSETFROM:+0100
TZOFFSETTO:+0200
TZNAME:CEST
DTSTART:20270328T010000
END:DAYLIGHT
BEGIN:STANDARD
TZOFFSETFROM:+0200
TZOFFSETTO:+0100
TZNAME:CET
DTSTART:20271031T010000
END:STANDARD
END:VTIMEZONE
BEGIN:VEVENT
DTSTART;VALUE=DATE:20260405
DTEND;VALUE=DATE:20260406
DTSTAMP:20260420T164353
CREATED:20260330T063222Z
LAST-MODIFIED:20260330T063222Z
UID:10000209-1775347200-1775433599@kulturnihorizont.com
SUMMARY:Uskrsna tucijada u Glamoču
DESCRIPTION:
URL:https://kulturnihorizont.com/event/uskrsna-tucijada-u-glamocu/
LOCATION:crkva sv. Ilije proroka\, Nikole Bojinovića 19\, Glamoč\, 80230\, Bosnia and Herzegovina
CATEGORIES:Kalendar
ATTACH;FMTTYPE=image/jpeg:https://kulturnihorizont.com/wp-content/uploads/2026/03/659131009_943614088411063_5224885729359769460_n.jpg
END:VEVENT
BEGIN:VEVENT
DTSTART;TZID=Europe/Zagreb:20260217T163000
DTEND;TZID=Europe/Zagreb:20260217T170000
DTSTAMP:20260420T164353
CREATED:20260216T091559Z
LAST-MODIFIED:20260216T091559Z
UID:10000187-1771345800-1771347600@kulturnihorizont.com
SUMMARY:Maskenbal u Glamoču
DESCRIPTION:
URL:https://kulturnihorizont.com/event/maskenbal-u-glamocu/
LOCATION:Gradski park Glamoč\, Glamoč\, Bosnia and Herzegovina
CATEGORIES:Kalendar
ATTACH;FMTTYPE=image/jpeg:https://kulturnihorizont.com/wp-content/uploads/2026/02/634876565_936431472291488_9076799918318251393_n.jpg
END:VEVENT
BEGIN:VEVENT
DTSTART;TZID=Europe/Zagreb:20251002T190000
DTEND;TZID=Europe/Zagreb:20251002T210000
DTSTAMP:20260420T164353
CREATED:20251002T074652Z
LAST-MODIFIED:20251002T074652Z
UID:10000169-1759431600-1759438800@kulturnihorizont.com
SUMMARY:Nastup Ansambla "LIRA" u Glamoču
DESCRIPTION:
URL:https://kulturnihorizont.com/event/nastup-ansambla-lira-u-glamocu/
LOCATION:Dom kulture Glamoč\, Glamoč
CATEGORIES:Kalendar
ATTACH;FMTTYPE=image/jpeg:https://kulturnihorizont.com/wp-content/uploads/2025/10/557764279_122197563758323309_3230335905024452392_n.jpg
END:VEVENT
BEGIN:VEVENT
DTSTART;VALUE=DATE:20250804
DTEND;VALUE=DATE:20250808
DTSTAMP:20260420T164353
CREATED:20250727T091434Z
LAST-MODIFIED:20250727T091434Z
UID:10000155-1754265600-1754611199@kulturnihorizont.com
SUMMARY:Dani Miroslava Čangalovića u Glamoču
DESCRIPTION:
URL:https://kulturnihorizont.com/event/dani-miroslava-cangalovica-u-glamocu/
LOCATION:Dom kulture Glamoč\, Glamoč
CATEGORIES:Kalendar
ATTACH;FMTTYPE=image/jpeg:https://kulturnihorizont.com/wp-content/uploads/2025/07/523885329_122097981026958708_7416445146987150795_n.jpg
END:VEVENT
END:VCALENDAR