BEGIN:VCALENDAR
VERSION:2.0
PRODID:-//Kulturni horizont - ECPv6.15.20//NONSGML v1.0//EN
CALSCALE:GREGORIAN
METHOD:PUBLISH
X-WR-CALNAME:Kulturni horizont
X-ORIGINAL-URL:https://kulturnihorizont.com
X-WR-CALDESC:Događaji za Kulturni horizont
REFRESH-INTERVAL;VALUE=DURATION:PT1H
X-Robots-Tag:noindex
X-PUBLISHED-TTL:PT1H
BEGIN:VTIMEZONE
TZID:Europe/Zagreb
BEGIN:DAYLIGHT
TZOFFSETFROM:+0100
TZOFFSETTO:+0200
TZNAME:CEST
DTSTART:20250330T010000
END:DAYLIGHT
BEGIN:STANDARD
TZOFFSETFROM:+0200
TZOFFSETTO:+0100
TZNAME:CET
DTSTART:20251026T010000
END:STANDARD
BEGIN:DAYLIGHT
TZOFFSETFROM:+0100
TZOFFSETTO:+0200
TZNAME:CEST
DTSTART:20260329T010000
END:DAYLIGHT
BEGIN:STANDARD
TZOFFSETFROM:+0200
TZOFFSETTO:+0100
TZNAME:CET
DTSTART:20261025T010000
END:STANDARD
BEGIN:DAYLIGHT
TZOFFSETFROM:+0100
TZOFFSETTO:+0200
TZNAME:CEST
DTSTART:20270328T010000
END:DAYLIGHT
BEGIN:STANDARD
TZOFFSETFROM:+0200
TZOFFSETTO:+0100
TZNAME:CET
DTSTART:20271031T010000
END:STANDARD
END:VTIMEZONE
BEGIN:VEVENT
DTSTART;VALUE=DATE:20260130
DTEND;VALUE=DATE:20260402
DTSTAMP:20260419T153625
CREATED:20260128T071404Z
LAST-MODIFIED:20260128T071404Z
UID:10000178-1769731200-1775087999@kulturnihorizont.com
SUMMARY:„Mato Kaić – svjetlopisi pod bosanskim nebom“
DESCRIPTION:Franjevački muzej i galerija Gorica – Livno poziva sve Livnjake\, prijatelje Livna i zaljubljenike u fotografiju da se pridruže otvorenju izložbe „Mato Kaić – svjetlopisi pod bosanskim nebom“\, koje će se održati u petak\, 30. siječnja 2026. godine\, u 19 sati\, u Etnografskom muzeju Split. Ulaz na izložbu je slobodan. \nIzložba je posvećena Mati Kaiću\, prvom livanjskom fotoamateru s početka XX. stoljeća\, čiji radovi i danas\, deset godina nakon prve izložbe u Livnu (2015.)\, privlače veliku pozornost javnosti. Ovaj samozatajni intelektualac\, umjetnik\, gospodarstvenik i ratar fotoaparatom je zabilježio vrijedne prizore rodnoga kraja\, Kupreškoga polja\, Sinjske alke\, Splita i splitske luke te Rijeke Dubrovačke. \nKaićevi svjetlopisi istodobno imaju dokumentarnu i umjetničku vrijednost. Kroz njegove kadrove otkrivaju se priče o svakodnevnom životu\, zaboravljenim običajima\, ljudima i krajolicima jednoga prošlog vremena\, zbog čega je izložba zanimljiva posjetiteljima svih generacija. \nU vrijeme kada je Kaić stvarao\, fotografije su se snimale kamerom na staklene ploče\, s kojih su se naknadno razvijale na papir. Njegova sačuvana ostavština danas broji 377 negativa i pozitiva na staklenim pločama\, od kojih se 327 čuva u Franjevačkom muzeju i galeriji Gorica – Livno\, dok se preostalih 50 nalazi u obitelji Kaićeva rođaka Ive u Zagrebu. S obzirom na krhkost ovog medija\, pravo je čudo da su ploče sačuvane do danas. \nUz svjetlopise\, posjetitelji će imati priliku vidjeti i Kaićevu fotografsku opremu\, originalne staklene ploče\, kao i literaturu iz koje je crpio znanje o fotografiji i fotografiranju. \nZa sve one koji ne budu mogli prisustvovati otvorenju\, izložba će biti otvorena za posjetitelje do 1. travnja 2026. godine.
URL:https://kulturnihorizont.com/event/mato-kaic-svjetlopisi-pod-bosanskim-nebom/
LOCATION:Etnografski muzej Split\, Iza Vestibula 4\, Split\, 21000\, Croatia (Local Name: Hrvatska)
CATEGORIES:Kalendar
ATTACH;FMTTYPE=image/jpeg:https://kulturnihorizont.com/wp-content/uploads/2026/01/623037404_1405044998080583_3649823148102991834_n-scaled-1.jpg
END:VEVENT
BEGIN:VEVENT
DTSTART;VALUE=DATE:20260320
DTEND;VALUE=DATE:20260321
DTSTAMP:20260419T153625
CREATED:20250320T220209Z
LAST-MODIFIED:20250320T220209Z
UID:10000126-1773964800-1774051199@kulturnihorizont.com
SUMMARY:Vladimir Džanko (20. 3. 1932. - 29. 8. 2018.)
DESCRIPTION:Vladimir Džanko\, slikar (Mladeškovci kraj Glamoča\, 20. III. 1932). Malu maturu položio u Livnu 1948\, Državnu školu za slikarstvo i umjetne zanate završio u Sarajevu 1953 (B. Subotić). Neko vrijeme radio kao scenograf u Narodnom pozorištu u Banjoj Luci te predavao u gimnaziji u Tuzli. Diplomirao na Akademiji primenjene umetnosti u Beogradu 1962 (V. Grdan – slikarstvo\, M. Zlamalik – plakat\, I. Tabaković – keramika). God. 1963. dolazi u Osijek\, gdje je do 1967. scenograf u HNK\, potom likovni pedagog\, od 1978. voditelj kolegija za predškolski odgoj na Pedagoškom fakultetu i od 1992. ravnatelj Galerije likovnih umjetnosti. — Najčešće slika uljem\, akvarelom i pastelom\, radi crteže olovkom i perom. U početnoj je fazi pod znatnim utjecajem akademije\, s izraženom linearnošću u oblikovanju slike. U Osijeku i u slavonskom podneblju taj utjecaj pomalo slabi. Iako rodom iz kamenita kraja\, Dž. se suživljuje s nizinskim krajolikom te slika slavonski pejzaž (šume\, polja\, vode) na intimistički način\, u lakoj rasvjeti na dalekim horizontima ili u oblačju. Prikazuje i kuće\, osobito seljačka dvorišta. Kompoziciju gradi tonovima boje (pretežito tamnozelene\, smeđe i sive)\, a potez mu je kista često brz\, leteći\, što slikama daje osobnu notu i draž trepetljivosti. Nasuprot idiličnu plenerizmu ranijih pejzaža\, njegove ratne vedute Osijeka (akvareli iz 1991) imaju obilježja ekspresivnoga kolorizma: ratna je kataklizma predočena u srazu snažno crvenih i plavih tonova i difuznoj strukturi motiva. Bavi se i ilustriranjem književnih djela. Samostalno je izlagao u Osijeku (1963–64\, 1966–67\, 1969\, 1976–77\, 1980\, 1982\, 1986\, 1988\, 1991)\, Našicama (1969)\, Vinkovcima (1975)\, Göteborgu (1977\, s I. Hermanom)\, Dubrovniku (1984)\, Đakovu (1987) i Nersingenu u Njemačkoj (1989). Sudjelovao na izložbama podružnice ULUH-a (HDLU-a) za Slavoniju (od 1966)\, na Bijenalu Slavonaca (od 1967)\, izložbama baranjske (od 1975) i iločke likovne kolonije (od 1977)\, izložbama Slavonski pejzaž XIX. i XX. stoljeća (Osijek 1976)\, Suvremeni osječki slikari i kipari (Osijek i Brantford u Kanadi 1977)\, Osječki ratni atelijer (Köln 1992) i dr. — God. 1970. dobio je Nagradu grada Osijeka za slikarstvo. \nVladimir Džanko\, Motiv iz Karlovca\, ulje na platnu\, 2005.
URL:https://kulturnihorizont.com/event/vladimir-dzanko-20-3-1932-29-8-2018/2026-03-20/
CATEGORIES:Znamenite osobe
ATTACH;FMTTYPE=image/jpeg:https://kulturnihorizont.com/wp-content/uploads/2025/03/dzanko1.jpg
END:VEVENT
BEGIN:VEVENT
DTSTART;TZID=Europe/Zagreb:20260320T193000
DTEND;TZID=Europe/Zagreb:20260320T210000
DTSTAMP:20260419T153625
CREATED:20260315T173143Z
LAST-MODIFIED:20260315T173601Z
UID:10000197-1774035000-1774040400@kulturnihorizont.com
SUMMARY:Animirani film "David" u livanjskom kinu
DESCRIPTION:
URL:https://kulturnihorizont.com/event/animirani-film-david-u-livanjskom-kinu/
LOCATION:Narodno sveučilište Livno\, Livno\, Bosnia and Herzegovina
CATEGORIES:Kalendar
ATTACH;FMTTYPE=image/jpeg:https://kulturnihorizont.com/wp-content/uploads/2026/03/651190573_122219766560323309_4031141159238034408_n.jpg
END:VEVENT
END:VCALENDAR